BEGIN:VCALENDAR
VERSION:2.0
PRODID:-//ChamberMaster//Event Calendar 2.0//EN
METHOD:PUBLISH
X-PUBLISHED-TTL:P3D
REFRESH-INTERVAL:P3D
CALSCALE:GREGORIAN
BEGIN:VEVENT
DTSTART:20260716T120000Z
DTEND:20260716T190000Z
X-MICROSOFT-CDO-ALLDAYEVENT:FALSE
SUMMARY:Women Empowering Women Summit (July 2026)
DESCRIPTION:Mark your calendars for Women Empowering Women on July 16\, 2026. Join us for an inspiring day to connect\, grow\, and lead alongside women from across our community. More details coming soon.\n\n\n\nJoin us for the Greater Mount Airy Chamber of Commerce's 5th annual women-focused event where women can connect\, grow\, and lead. Connect with your fellow\, like-minded\, women in business and community. Grow as you hear and learn from the experiences of the powerful women featured at this conference and share your story with those that you meet. Then walk away feeling refreshed\, empowered\, and ready to lead.\n\n\n\nVisit our website for more information on the upcoming Women Empowering Women Summit.
X-ALT-DESC;FMTTYPE=text/html:<p align="center" style="margin: 0px\; padding: 0px\; caret-color: rgb(62\, 62\, 62)\; color: rgb(62\, 62\, 62)\; font-family: Arial\, Verdana\, Helvetica\, sans-serif\; font-size: 14px\; text-align: center\;"><span style="font-family:times new roman\;"><span style="font-size: 15px\; color: rgb(0\, 0\, 0)\;">Mark your calendars for&nbsp\;</span><span style="font-size: 15px\; color: rgb(0\, 0\, 0)\; font-weight: bold\;">Women Empowering Women</span><span style="font-size: 15px\; color: rgb(0\, 0\, 0)\;">&nbsp\;on&nbsp\;July 16\, 2026. Join us for an inspiring day to&nbsp\;connect\, grow\, and lead&nbsp\;alongside women from across our community. More details coming soon.</span></span><br />\n<br />\n<span style="font-size:12px\;"><span style="font-family:times new roman\;">Join us for the Greater Mount Airy Chamber of Commerce&rsquo\;s 5th annual women-focused event where women can connect\, grow\, and lead. <strong>Connect </strong>with your fellow\, like-minded\, women in business and community. <strong>Grow</strong> as you hear and learn from the experiences of the powerful women featured at this conference and share your story with those that you meet. Then walk away feeling refreshed\, empowered\, and ready to<strong> lead</strong>.<br />\n<br />\n<a href="https://www.mtairyncchamber.org/events/women-empowering-women-summit/">Visit our website for more information on the upcoming Women Empowering Women Summit.</a></span></span><br />\n&nbsp\;</p>\n
LOCATION:To be announced
UID:e.718.2019
SEQUENCE:3
DTSTAMP:20260422T224537Z
URL:https://members.mtairyncchamber.org/events/details/women-empowering-women-summit-july-2026-2019
END:VEVENT

END:VCALENDAR
