BEGIN:VCALENDAR
VERSION:2.0
PRODID:-//ChamberMaster//Event Calendar 2.0//EN
METHOD:PUBLISH
X-PUBLISHED-TTL:P3D
REFRESH-INTERVAL:P3D
CALSCALE:GREGORIAN
BEGIN:VEVENT
DTSTART:20260224T180000Z
DTEND:20260224T193000Z
X-MICROSOFT-CDO-ALLDAYEVENT:FALSE
SUMMARY:Webinar: Free AI Training for Chamber Members (February 2026)
DESCRIPTION:We're excited to offer a new training opportunity at no cost to Chamber members: AI for Small Business\, a 90-minute online webinar designed to help small business owners use AI in practical\, real-world ways. This session is beginner-friendly\, focused on saving time and working smarter\, and will be live and recorded so you can watch on your schedule.\n\n \n\nIf you're interested in attending\, please RSVP so we can plan accordingly the private registratio n link will be shared at a later date\, so keep an eye on your inbox!
X-ALT-DESC;FMTTYPE=text/html:<p style="white-space: pre-wrap\; margin: 0px\; padding: 0px\; caret-color: rgb(62\, 62\, 62)\; color: rgb(62\, 62\, 62)\; font-family: Arial\, Verdana\, Helvetica\, sans-serif\; font-size: 14px\; text-align: center\;"><span style="font-size: 15px\; color: rgb(0\, 0\, 0)\;">We&rsquo\;re excited to offer a new training opportunity at&nbsp\;no cost&nbsp\;to Chamber members:&nbsp\;AI for Small Business\, a&nbsp\;90-minute online webinar&nbsp\;designed to help small business owners use AI in practical\, real-world ways. This session is beginner-friendly\, focused on saving time and working smarter\, and will be&nbsp\;live and recorded&nbsp\;so you can watch on your schedule.</span></p>\n\n<p style="white-space: pre-wrap\; margin: 0px\; padding: 0px\; caret-color: rgb(62\, 62\, 62)\; color: rgb(62\, 62\, 62)\; font-family: Arial\, Verdana\, Helvetica\, sans-serif\; font-size: 14px\; text-align: center\;">&nbsp\;</p>\n\n<p style="white-space: pre-wrap\; margin: 0px\; padding: 0px\; caret-color: rgb(62\, 62\, 62)\; color: rgb(62\, 62\, 62)\; font-family: Arial\, Verdana\, Helvetica\, sans-serif\; font-size: 14px\; text-align: center\;"><span style="font-size: 15px\; color: rgb(0\, 0\, 0)\;">If you&rsquo\;re interested in attending\,&nbsp\;please RSVP&nbsp\;so we can plan accordingly&mdash\;the private registratio&#65279\;n link will be shared at a later date\, so keep an eye on your inbox!</span></p>\n
LOCATION:Online Webinar
UID:e.718.2005
SEQUENCE:3
DTSTAMP:20260421T013843Z
URL:https://members.mtairyncchamber.org/events/details/webinar-free-ai-training-for-chamber-members-february-2026-2005
END:VEVENT

END:VCALENDAR
