BEGIN:VCALENDAR
VERSION:2.0
PRODID:-//ChamberMaster//Event Calendar 2.0//EN
METHOD:PUBLISH
X-PUBLISHED-TTL:P3D
REFRESH-INTERVAL:P3D
CALSCALE:GREGORIAN
BEGIN:VEVENT
DTSTART:20251015T123000Z
DTEND:20251015T140000Z
X-MICROSOFT-CDO-ALLDAYEVENT:FALSE
SUMMARY:State of Mount Airy
DESCRIPTION:You are invited to the State of Mount Airy breakfast on Wednesday\, October 15th at 8:30am. Please join us for a delicious full breakfast\, host by Cross Creek Country Club while City Manager\, Darren Lewis\, and his team updates us on all things Mount Airy. Don't miss the opportunity to be informed and to connect with your peers.\n\n \n\nTopics will include:\n\n	Department Overview\n	City Budget\n	Grant Projects\n	The Granstone Conference Center\n	Balladeer Hotel\n	An exciting announcement for small businesses (2-50 EE) from the Chamber\n\n\nHere's what else you need to know:\n\n\n	Tickets are $25 for members   register here with your credit card\n	Reserved tables available for 4 or more registrations   make your request in your registration.\n	Tables of 6 or more may receive an invoice\, send your request by email to Ashly.\n	We are seeking sponsorships from $500 to $1\,500. Reply to me for more details or see link above.\n	Deadline to register is October 10th
X-ALT-DESC;FMTTYPE=text/html:<span style="font-size:14px\;">You are invited to <span style="color:#444444\;"><span style="font-family:arial\,sans-serif\;">the <strong>State of Mount Airy</strong> breakfast on <strong>Wednesday\, October 15<sup>th</sup> at 8:30am</strong>. Please join us for a delicious full breakfast\, host by <strong>Cross Creek Country Club</strong> while City Manager\, Darren Lewis\, and his team updates us on all things Mount Airy. </span></span>Don&rsquo\;t miss the opportunity to be informed and to connect with your peers.<br />\n&nbsp\;<br />\n<span style="color:#444444\;"><span style="font-family:arial\,sans-serif\;">Topics will include:</span></span></span>\n<ul>\n	<li style="margin-left:0in\;"><span style="font-size:14px\;"><span style="color:#444444\;"><span style="font-family:arial\,sans-serif\;">Department Overview</span></span></span></li>\n	<li style="margin-left:0in\;"><span style="font-size:14px\;"><span style="color:#444444\;"><span style="font-family:arial\,sans-serif\;">City Budget</span></span></span></li>\n	<li style="margin-left:0in\;"><span style="font-size:14px\;"><span style="color:#444444\;"><span style="font-family:arial\,sans-serif\;">Grant Projects</span></span></span></li>\n	<li style="margin-left:0in\;"><span style="font-size:14px\;"><span style="color:#444444\;"><span style="font-family:arial\,sans-serif\;">The Granstone Conference Center</span></span></span></li>\n	<li style="margin-left:0in\;"><span style="font-size:14px\;"><span style="color:#444444\;"><span style="font-family:arial\,sans-serif\;">Balladeer Hotel</span></span></span></li>\n	<li style="margin-left:0in\;"><span style="font-size:14px\;"><strong><span style="color:#EE0000\;"><span style="font-family:arial\,sans-serif\;">An exciting announcement for small businesses (2-50 EE) from the Chamber</span></span></strong></span></li>\n</ul>\n\n<div style="margin-left:0in\;"><span style="font-size:14px\;"><strong>Here&rsquo\;s what else you need to know:</strong></span>\n\n<ol>\n	<li style="margin-left:0in\;"><span style="font-size:14px\;">Tickets are $25 for members &ndash\; <a href="https://members.mtairyncchamber.org/events/details/state-of-mount-airy-1980">register here with your credit card</a></span></li>\n	<li style="margin-left:0in\;"><span style="font-size:14px\;">Reserved tables available for 4 or more registrations &ndash\; make your request in your registration.</span></li>\n	<li style="margin-left:0in\;"><span style="font-size:14px\;">Tables of 6 or more may receive an invoice\, send your request by email to Ashly.</span></li>\n	<li style="margin-left:0in\;"><span style="font-size:14px\;">We are seeking sponsorships from $500 to $1\,500. Reply to me for more details or see link above.</span></li>\n	<li style="margin-left:0in\;"><span style="font-size:14px\;">Deadline to register is October 10<sup>th</sup></span></li>\n</ol>\n</div>\n
LOCATION:Cross Creek Country Club 1129 Greenhill Road Mount Airy\, NC 27030
UID:e.718.1980
SEQUENCE:3
DTSTAMP:20260421T075602Z
URL:https://members.mtairyncchamber.org/events/details/state-of-mount-airy-1980
END:VEVENT

END:VCALENDAR
