BEGIN:VCALENDAR
VERSION:2.0
PRODID:-//ChamberMaster//Event Calendar 2.0//EN
METHOD:PUBLISH
X-PUBLISHED-TTL:P3D
REFRESH-INTERVAL:P3D
CALSCALE:GREGORIAN
BEGIN:VEVENT
DTSTART:20251206T000000Z
DTEND:20251206T040000Z
X-MICROSOFT-CDO-ALLDAYEVENT:FALSE
SUMMARY:Sleigh Bells & Bids (December 2025)
DESCRIPTION:Join us for our newly branded annual Chamber Christmas event. On Friday\, December 5th\, we're hosting  Sleigh Bells & Bids: A Not-So-Silent Night. This year\, we're trading black-tie for festive style and celebration. We're turning up the volume with turntables\, festive cocktails\, heavy hors d'oeuvres\, and our usual spirited silent auction to support Chamber programs.\n\n \n\nEveryone's BIG question WHAT TO WEAR????\n\n  Ladies: No ballgown or floor length formal required\, you can opt for your favorite dress\, jumpsuit\, or even tailored separates. Velvet\, satin\, sequins\, or rich holiday colors will fit right in. Just keep it fun\, flattering\, and something you can dance in.\n\n  For the Gents: Leave the tux at home   but don't be afraid to show some holiday flair.  Sport coats\, blazers\, sweaters\, or dress shirts with seasonal colors or textures work great. Bonus points for festive socks  or a sharp pocket square.\n\nEnjoy a night of dining\, dancing\, and holiday magic\, complete with a lively silent auction featuring one-of-a-kind treasures. Dressed in your finest\, come ready to toast the season and make memories that will last well into the new year.
X-ALT-DESC;FMTTYPE=text/html:<p data-end="455" data-start="157" style="caret-color: rgb(0\, 0\, 0)\; color: rgb(0\, 0\, 0)\;"><span style="font-size:14px\;"><span style="font-family:times new roman\;">Join us for our newly branded annual Chamber Christmas event. On <strong>Friday\, December 5th</strong>\, we&rsquo\;re hosting&mdash\; <strong>Sleigh Bells &amp\; Bids: A Not-So-Silent Night. </strong>This year\, we&rsquo\;re trading black-tie for festive style and celebration. We&rsquo\;re turning up the volume with turntables\, festive cocktails\, heavy hors d&rsquo\;oeuvres\, and our usual spirited silent auction to support Chamber programs.<br />\n&nbsp\;<br />\nEveryone&rsquo\;s <strong>BIG</strong> question&hellip\;<strong>WHAT TO WEAR????</strong><br />\n&#128087\; Ladies: No ballgown or floor length formal required\, you can opt for your favorite dress\, jumpsuit\, or even tailored separates. Velvet\, satin\, sequins\, or rich holiday colors will fit right in. Just keep it fun\, flattering\, and something you can dance in.<br />\n&#128084\; For the Gents: Leave the tux at home &mdash\; but don&rsquo\;t be afraid to show some holiday flair. &#127876\;Sport coats\, blazers\, sweaters\, or dress shirts with seasonal colors or textures work great. Bonus points for festive socks &#129510\;or a sharp pocket square.</span></span></p>\n\n<p data-end="704" data-start="457" style="caret-color: rgb(0\, 0\, 0)\; color: rgb(0\, 0\, 0)\;"><span style="font-size:14px\;"><span style="font-family:times new roman\;">Enjoy a night of&nbsp\;<strong data-end="512" data-start="474">dining\, dancing\, and holiday magic</strong>\, complete with a lively&nbsp\;<strong data-end="555" data-start="537">silent auction</strong>&nbsp\;featuring one-of-a-kind treasures. Dressed in your finest\, come ready to toast the season and make memories that will last well into the new year.</span></span></p>\n\n<p data-end="704" data-start="457" style="caret-color: rgb(0\, 0\, 0)\; color: rgb(0\, 0\, 0)\;">&nbsp\;</p>\n
LOCATION:Cross Creek Country Club 1129 Greenhill Rd\, Mt Airy\, NC 27030 Mt Airy\, NC 27030
UID:e.718.1988
SEQUENCE:3
DTSTAMP:20260420T164216Z
URL:https://members.mtairyncchamber.org/events/details/sleigh-bells-bids-december-2025-1988
END:VEVENT

END:VCALENDAR
