BEGIN:VCALENDAR
VERSION:2.0
PRODID:-//ChamberMaster//Event Calendar 2.0//EN
METHOD:PUBLISH
X-PUBLISHED-TTL:P3D
REFRESH-INTERVAL:P3D
CALSCALE:GREGORIAN
BEGIN:VEVENT
DTSTART:20250926T150000Z
DTEND:20250927T033000Z
X-MICROSOFT-CDO-ALLDAYEVENT:FALSE
SUMMARY:Ribbon Cutting - Vroom Blooms (September 2025)
DESCRIPTION:Join us in celebrating Vroom Blooms\, a husband-and-wife team bringing creativity\, quality\, and sustainability to life through their small business. Dedicated to offering high-quality products at fair prices\, building a transparent supply chain\, and fostering a supportive community\, Vroom Blooms is more than a shop it's a mission. Come show your support as we welcome them with an official ribbon cutting!
X-ALT-DESC;FMTTYPE=text/html:<p data-end="181" data-start="113"><span style="font-size:14px\;"><span style="font-family:arial\;"><span style="caret-color: rgb(0\, 0\, 0)\; color: rgb(0\, 0\, 0)\;">Join us in celebrating&nbsp\;</span><strong data-end="188" data-start="172" style="caret-color: rgb(0\, 0\, 0)\; color: rgb(0\, 0\, 0)\;">Vroom Blooms</strong><span style="caret-color: rgb(0\, 0\, 0)\; color: rgb(0\, 0\, 0)\;">\, a husband-and-wife team bringing creativity\, quality\, and sustainability to life through their small business. Dedicated to offering high-quality products at fair prices\, building a transparent supply chain\, and fostering a supportive community\, Vroom Blooms is more than a shop&mdash\;it&rsquo\;s a mission. Come show your support as we welcome them with an official ribbon cutting!</span></span></span></p>\n
LOCATION:Vroom Blooms Studio + Market 239 Market Street\, Mount Airy\, NC\, 27030
UID:e.718.1985
SEQUENCE:3
DTSTAMP:20260421T091405Z
URL:https://members.mtairyncchamber.org/events/details/ribbon-cutting-vroom-blooms-september-2025-1985
END:VEVENT

END:VCALENDAR
