BEGIN:VCALENDAR
VERSION:2.0
PRODID:-//ChamberMaster//Event Calendar 2.0//EN
METHOD:PUBLISH
X-PUBLISHED-TTL:P3D
REFRESH-INTERVAL:P3D
CALSCALE:GREGORIAN
BEGIN:VEVENT
DTSTART:20260225T160000Z
DTEND:20260225T163000Z
X-MICROSOFT-CDO-ALLDAYEVENT:FALSE
SUMMARY:Ribbon Cutting - Two Five Summit Restaurant + Bar (February 2026)
DESCRIPTION:Join us for the Grand Opening of Two Five Summit Restaurant + Bar! We'll kick off the celebration with a ribbon cutting at 11:00 AM\, and we'd love for Chamber members and the community to come out and help us welcome them.\n\n \n\nAfter the ribbon cutting\, the fun continues all day through closing with giveaways\, gift cards\, and special promotions happening every couple of hours leading up to a "grand finale" at the end of the day. Stop by when you can and be part of the celebration!
X-ALT-DESC;FMTTYPE=text/html:<p style="white-space: pre-wrap\; margin: 0px\; padding: 0px\; caret-color: rgb(62\, 62\, 62)\; color: rgb(62\, 62\, 62)\; font-family: Arial\, Verdana\, Helvetica\, sans-serif\; font-size: 14px\; text-align: center\;"><span style="color: rgb(0\, 0\, 0)\;">Join us for the&nbsp\;Grand Opening of Two Five Summit Restaurant + Bar! We&rsquo\;ll kick off the celebration with a&nbsp\;ribbon cutting at 11:00 AM\, and we&rsquo\;d love for Chamber members and the community to come out and help us welcome them.</span></p>\n\n<p style="white-space: pre-wrap\; margin: 0px\; padding: 0px\; caret-color: rgb(62\, 62\, 62)\; color: rgb(62\, 62\, 62)\; font-family: Arial\, Verdana\, Helvetica\, sans-serif\; font-size: 14px\; text-align: center\;">&nbsp\;</p>\n\n<p style="white-space: pre-wrap\; margin: 0px\; padding: 0px\; caret-color: rgb(62\, 62\, 62)\; color: rgb(62\, 62\, 62)\; font-family: Arial\, Verdana\, Helvetica\, sans-serif\; font-size: 14px\; text-align: center\;"><span style="color: rgb(0\, 0\, 0)\;">After the ribbon cutting\, the fun continues&nbsp\;all day through closing&nbsp\;with giveaways\, gift cards\, and special promotions happening every couple of hours&mdash\;leading up to a &ldquo\;grand finale&rdquo\; at the end of the day. Stop by when you can and be part of the celebration!</span></p>\n
LOCATION:Two Five Summit Restaurant + Bar 729 S Key St Pilot Mountain\, NC 27041
UID:e.718.2004
SEQUENCE:3
DTSTAMP:20260421T013740Z
URL:https://members.mtairyncchamber.org/events/details/ribbon-cutting-two-five-summit-restaurant-bar-february-2026-2004
END:VEVENT

END:VCALENDAR
