BEGIN:VCALENDAR
VERSION:2.0
PRODID:-//ChamberMaster//Event Calendar 2.0//EN
METHOD:PUBLISH
X-PUBLISHED-TTL:P3D
REFRESH-INTERVAL:P3D
CALSCALE:GREGORIAN
BEGIN:VEVENT
DTSTART:20260514T150000Z
DTEND:20260514T160000Z
X-MICROSOFT-CDO-ALLDAYEVENT:FALSE
SUMMARY:Ribbon Cutting - Surry Driving School (May 2026)
DESCRIPTION:Join us as we celebrate the upcoming Ribbon Cutting for Surry Driving School! Come out to show your support\, meet the team\, and help welcome this new business to the community.
X-ALT-DESC;FMTTYPE=text/html:<p style="white-space: pre-wrap\; margin: 0px\; padding: 0px\; caret-color: rgb(62\, 62\, 62)\; color: rgb(62\, 62\, 62)\; font-family: Arial\, Verdana\, Helvetica\, sans-serif\; font-size: 14px\; text-align: center\;"><span style="caret-color: rgb(0\, 0\, 0)\; color: rgb(0\, 0\, 0)\; font-size: medium\;">Join us as we celebrate the upcoming&nbsp\;</span><strong data-end="166" data-start="123" style="caret-color: rgb(0\, 0\, 0)\; color: rgb(0\, 0\, 0)\;">Ribbon Cutting for Surry Driving School</strong><span style="caret-color: rgb(0\, 0\, 0)\; color: rgb(0\, 0\, 0)\; font-size: medium\;">! Come out to show your support\, meet the team\, and help welcome this new business to the community.</span></p>\n
LOCATION:Surry Driving School 190 Virginia St\, Mount Airy\, NC 27030
UID:e.718.2020
SEQUENCE:3
DTSTAMP:20260422T224351Z
URL:https://members.mtairyncchamber.org/events/details/ribbon-cutting-surry-driving-school-may-2026-2020
END:VEVENT

END:VCALENDAR
