BEGIN:VCALENDAR
VERSION:2.0
PRODID:-//ChamberMaster//Event Calendar 2.0//EN
METHOD:PUBLISH
X-PUBLISHED-TTL:P3D
REFRESH-INTERVAL:P3D
CALSCALE:GREGORIAN
BEGIN:VEVENT
DTSTART:20220818T150000Z
DTEND:20220818T153000Z
X-MICROSOFT-CDO-ALLDAYEVENT:FALSE
SUMMARY:Ribbon Cutting - Surry County Dance Center
DESCRIPTION:Surry County Dance Center is a professional performing arts center located in Mount Airy\, NC! The studio was designed to teach dance and the art of dancing to children and adults. Surry County Dance Center's team of experienced dancers and instructors not only focus on teaching dance but also building each student's confidence and "awareness of the individual rhythm and talent within themselves". \n\n\n\nSurry County Dance Center and the Greater Mount Airy Chamber of Commerce will be hosting a Ribbon Cutting Ceremony to celebrate this business and extend a token of good luck. Join us on Thursday\, August 18th at 11:00am!\n\n\n\nTo learn more about Surry County Dance Center go to: https://surrycountydance.com/
X-ALT-DESC;FMTTYPE=text/html:<div color:="" font-size:="" segoe="" ui="">\n<div color:="" font-size:="" segoe="" ui="">Surry County Dance Center is a professional performing arts center located in Mount Airy\, NC! The studio was designed to teach dance and the art of dancing to children and adults. Surry County Dance Center&#39\;s team of experienced dancers and instructors&nbsp\;not only focus on teaching&nbsp\;<i>dance</i>&nbsp\;but also building each&nbsp\;student&#39\;s&nbsp\;confidence and &quot\;awareness of the individual rhythm and talent within themselves&quot\;.&nbsp\;<br />\n<br />\nSurry County Dance Center and the Greater Mount Airy Chamber of Commerce will be hosting a Ribbon Cutting Ceremony to celebrate this business and extend a token of good luck.&nbsp\;Join us on Thursday\, August 18th at 11:00am!<br />\n<br />\nTo learn more about Surry County Dance Center go to:&nbsp\;<a href="https://surrycountydance.com/">https://surrycountydance.com/</a></div>\n</div>\n
LOCATION:1130 S. Main St. Mount Airy\, NC
UID:e.718.1800
SEQUENCE:3
DTSTAMP:20260423T225830Z
URL:https://members.mtairyncchamber.org/events/details/ribbon-cutting-surry-county-dance-center-1800
END:VEVENT

END:VCALENDAR
