BEGIN:VCALENDAR
VERSION:2.0
PRODID:-//ChamberMaster//Event Calendar 2.0//EN
METHOD:PUBLISH
X-PUBLISHED-TTL:P3D
REFRESH-INTERVAL:P3D
CALSCALE:GREGORIAN
BEGIN:VEVENT
DTSTART:20260206T153000Z
DTEND:20260206T163000Z
X-MICROSOFT-CDO-ALLDAYEVENT:FALSE
SUMMARY:Ribbon Cutting - New Southern Loans (February 2026)
DESCRIPTION:Join us as we celebrate New Southern Loans with a Ribbon Cutting!    \n\nHelp us celebrate their new location and continued commitment to serving our community with personalized lending solutions. Come network\, connect\, and be part of this exciting milestone as we officially cut the ribbon and mark this next chapter for New Southern Loans!
X-ALT-DESC;FMTTYPE=text/html:<p><span style="caret-color: rgb(0\, 0\, 0)\; color: rgb(0\, 0\, 0)\; font-family: -webkit-standard\; font-size: medium\;">Join us as we celebrate New Southern Loans with a Ribbon Cutting! &#9986\;&#65039\;&#127881\;</span><br data-end="73" data-start="70" style="caret-color: rgb(0\, 0\, 0)\; color: rgb(0\, 0\, 0)\;" />\n<span style="caret-color: rgb(0\, 0\, 0)\; color: rgb(0\, 0\, 0)\; font-family: -webkit-standard\; font-size: medium\;">Help us celebrate their new location and continued commitment to serving our community with personalized lending solutions. Come network\, connect\, and be part of this exciting milestone as we officially cut the ribbon and mark this next chapter for New Southern Loans!</span></p>\n
LOCATION:New Southern Loans 691 W Pine St\, Mount Airy\, NC\, 27030
UID:e.718.2003
SEQUENCE:3
DTSTAMP:20260421T015141Z
URL:https://members.mtairyncchamber.org/events/details/ribbon-cutting-new-southern-loans-february-2026-2003
END:VEVENT

END:VCALENDAR
