BEGIN:VCALENDAR
VERSION:2.0
PRODID:-//ChamberMaster//Event Calendar 2.0//EN
METHOD:PUBLISH
X-PUBLISHED-TTL:P3D
REFRESH-INTERVAL:P3D
CALSCALE:GREGORIAN
BEGIN:VEVENT
DTSTART:20251114T140000Z
DTEND:20251114T143000Z
X-MICROSOFT-CDO-ALLDAYEVENT:FALSE
SUMMARY:Ribbon Cutting - Mount Airy Public Library (November 2025)
DESCRIPTION:Join Mount Airy Public Library for their Grand Re-Opening and Ribbon Cutting Ceremony! The library invites the community to celebrate this exciting milestone as they officially cut the ribbon and showcase their renewed commitment to serving Mount Airy. \n\n \n\nCome out to support Mount Airy Public Library as they reopen their doors and continue their mission of providing knowledge\, connection\, and resources to our community!
X-ALT-DESC;FMTTYPE=text/html:<p align="center" style="margin: 0px\; padding: 0px\; caret-color: rgb(62\, 62\, 62)\; color: rgb(62\, 62\, 62)\; font-family: Arial\, Verdana\, Helvetica\, sans-serif\; font-size: 14px\; text-align: center\;"><span style="color: rgb(0\, 0\, 0)\; font-size: 15px\;">Join&nbsp\;Mount Airy Public Library&nbsp\;for their&nbsp\;Grand Re-Opening and Ribbon Cutting Ceremony! The library invites the community to celebrate this exciting milestone as they officially cut the ribbon and showcase their renewed commitment to serving Mount Airy.</span>&#65279\;<br />\n&#65279\;</p>\n\n<p align="center" style="margin: 0px\; padding: 0px\; caret-color: rgb(62\, 62\, 62)\; color: rgb(62\, 62\, 62)\; font-family: Arial\, Verdana\, Helvetica\, sans-serif\; font-size: 14px\; text-align: center\;"><span style="color: rgb(0\, 0\, 0)\; font-size: 15px\;">Come out to support Mount Airy Public Library as they reopen their doors and continue their mission of providing knowledge\, connection\, and resources to our community!</span></p>\n
LOCATION:Mount Airy Public Library 145 Rockford Street\, Mount Airy\, NC 27030
UID:e.718.1994
SEQUENCE:3
DTSTAMP:20260421T061329Z
URL:https://members.mtairyncchamber.org/events/details/ribbon-cutting-mount-airy-public-library-november-2025-1994
END:VEVENT

END:VCALENDAR
