BEGIN:VCALENDAR
VERSION:2.0
PRODID:-//ChamberMaster//Event Calendar 2.0//EN
METHOD:PUBLISH
X-PUBLISHED-TTL:P3D
REFRESH-INTERVAL:P3D
CALSCALE:GREGORIAN
BEGIN:VEVENT
DTSTART:20260304T193000Z
DTEND:20260304T200000Z
X-MICROSOFT-CDO-ALLDAYEVENT:FALSE
SUMMARY:Ribbon Cutting - Mount Airy Indoor Soccer & Sports (March 2026)
DESCRIPTION:Join us at the Historic Jones Cultural Heritage and Innovation Center Museum as we celebrate the Grand Opening of the area's only indoor turf soccer facility\, operated by Mount Airy Indoor Soccer and Sports. The official Ribbon Cutting Ceremony will take place at 2:30 PM\, marking an exciting investment in youth athletics\, recreation\, and community growth across our region.\n\n \n\nLeading up to the ceremony\, WSYD will be broadcasting live from 1:00 3:00 PM\, featuring on-air song requests and special highlights celebrating the rich history and cultural impact of the historic school building. Come early\, stay for the celebration\, and be part of this exciting afternoon!
X-ALT-DESC;FMTTYPE=text/html:<p style="white-space: pre-wrap\; margin: 0px\; padding: 0px\; caret-color: rgb(62\, 62\, 62)\; color: rgb(62\, 62\, 62)\; font-family: Arial\, Verdana\, Helvetica\, sans-serif\; font-size: 14px\; text-align: center\;"><span style="font-size: 15px\; color: rgb(0\, 0\, 0)\;">Join us at the Historic Jones Cultural Heritage and Innovation Center Museum as we celebrate the&nbsp\;</span><span style="font-size: 15px\; color: rgb(0\, 0\, 0)\; font-weight: bold\;">Grand Opening of the area&rsquo\;s only indoor turf soccer facility</span><span style="font-size: 15px\; color: rgb(0\, 0\, 0)\;">\, operated by&nbsp\;</span><span style="font-size: 15px\; color: rgb(0\, 0\, 0)\; font-weight: bold\;">Mount Airy Indoor Soccer and Sports</span><span style="font-size: 15px\; color: rgb(0\, 0\, 0)\;">. The official&nbsp\;</span><span style="font-size: 15px\; color: rgb(0\, 0\, 0)\; font-weight: bold\;">Ribbon Cutting Ceremony will take place at 2:30 PM</span><span style="font-size: 15px\; color: rgb(0\, 0\, 0)\;">\, marking an exciting investment in youth athletics\, recreation\, and community growth across our region.</span></p>\n\n<p style="white-space: pre-wrap\; margin: 0px\; padding: 0px\; caret-color: rgb(62\, 62\, 62)\; color: rgb(62\, 62\, 62)\; font-family: Arial\, Verdana\, Helvetica\, sans-serif\; font-size: 14px\; text-align: center\;"><span style="font-size: 15px\; color: rgb(0\, 0\, 0)\;">&#65279\;</span></p>\n\n<p style="white-space: pre-wrap\; margin: 0px\; padding: 0px\; caret-color: rgb(62\, 62\, 62)\; color: rgb(62\, 62\, 62)\; font-family: Arial\, Verdana\, Helvetica\, sans-serif\; font-size: 14px\; text-align: center\;"><span style="font-size: 15px\; color: rgb(0\, 0\, 0)\;">Leading up to the ceremony\,&nbsp\;</span><span style="font-size: 15px\; color: rgb(0\, 0\, 0)\; font-weight: bold\;">WSYD will be broadcasting live from 1:00&ndash\;3:00 PM</span><span style="font-size: 15px\; color: rgb(0\, 0\, 0)\;">\, featuring on-air song requests and special highlights celebrating the rich history and cultural impact of the historic school building. Come early\, stay for the celebration\, and be part of this exciting afternoon!</span></p>\n
LOCATION:Historic Jones Cultural Heritage and Innovation Center Museum 215 Jones School Rd\, Mount Airy\, NC 27030
UID:e.718.2007
SEQUENCE:3
DTSTAMP:20260421T000555Z
URL:https://members.mtairyncchamber.org/events/details/ribbon-cutting-mount-airy-indoor-soccer-sports-march-2026-2007
END:VEVENT

END:VCALENDAR
