BEGIN:VCALENDAR
VERSION:2.0
PRODID:-//ChamberMaster//Event Calendar 2.0//EN
METHOD:PUBLISH
X-PUBLISHED-TTL:P3D
REFRESH-INTERVAL:P3D
CALSCALE:GREGORIAN
BEGIN:VEVENT
DTSTART:20251108T190000Z
DTEND:20251108T193000Z
X-MICROSOFT-CDO-ALLDAYEVENT:FALSE
SUMMARY:Ribbon Cutting - Mount Airy Dental Studio (November 2025)
DESCRIPTION:Help us celebrate Mount Airy Dental Studio\, where compassionate care meets modern dentistry. Their team is dedicated to providing patients with high-quality services in a welcoming environment helping every smile shine a little brighter. Join us as we officially cut the ribbon and recognize their commitment to serving our community with excellence in oral health.
X-ALT-DESC;FMTTYPE=text/html:<p data-end="181" data-start="113">Help us celebrate&nbsp\;<strong data-end="199" data-start="178">Mount Airy Dental Studio</strong>\, where compassionate care meets modern dentistry. Their team is dedicated to providing patients with high-quality services in a welcoming environment&mdash\;helping every smile shine a little brighter. Join us as we officially cut the ribbon and recognize their commitment to serving our community with excellence in oral health.</p>\n
LOCATION:Mount Airy Dental Studio 502 West Lebanon Street Mount Airy\, NC 27030
UID:e.718.1986
SEQUENCE:3
DTSTAMP:20260421T061447Z
URL:https://members.mtairyncchamber.org/events/details/ribbon-cutting-mount-airy-dental-studio-november-2025-1986
END:VEVENT

END:VCALENDAR
