BEGIN:VCALENDAR
VERSION:2.0
PRODID:-//ChamberMaster//Event Calendar 2.0//EN
METHOD:PUBLISH
X-PUBLISHED-TTL:P3D
REFRESH-INTERVAL:P3D
CALSCALE:GREGORIAN
BEGIN:VEVENT
DTSTART:20251109T190000Z
DTEND:20251109T210000Z
X-MICROSOFT-CDO-ALLDAYEVENT:FALSE
SUMMARY:Ribbon Cutting - Morning Glory Ridge Events & Lodging (November 2025)
DESCRIPTION:Join us as we celebrate the grand opening of Morning Glory Ridge Events & Lodging! Tour this stunning new venue\, enjoy refreshments\, and meet the team behind this beautiful space. Whether you're planning a special event or seeking a peaceful getaway\, Morning Glory Ridge offers the perfect setting to gather\, relax\, and make memories. Don't miss the chance to welcome this exciting new addition to our community!
X-ALT-DESC;FMTTYPE=text/html:<p data-end="181" data-start="113"><span style="font-size:14px\;"><span style="font-family:arial\;"><span style="caret-color: rgb(0\, 0\, 0)\; color: rgb(0\, 0\, 0)\;">Join us as we celebrate the grand opening of&nbsp\;</span><strong data-end="197" data-start="157" style="caret-color: rgb(0\, 0\, 0)\; color: rgb(0\, 0\, 0)\;">Morning Glory Ridge Events &amp\; Lodging</strong><span style="caret-color: rgb(0\, 0\, 0)\; color: rgb(0\, 0\, 0)\;">! Tour this stunning new venue\, enjoy refreshments\, and meet the team behind this beautiful space. Whether you&rsquo\;re planning a special event or seeking a peaceful getaway\, Morning Glory Ridge offers the perfect setting to gather\, relax\, and make memories. Don&rsquo\;t miss the chance to welcome this exciting new addition to our community!</span></span></span></p>\n
LOCATION:Morning Glory Ridge Air B&B 1148 Round Peak Church Rd\, Mount Airy\, NC 27030
UID:e.718.1993
SEQUENCE:3
DTSTAMP:20260421T061452Z
URL:https://members.mtairyncchamber.org/events/details/ribbon-cutting-morning-glory-ridge-events-lodging-november-2025-1993
END:VEVENT

END:VCALENDAR
