BEGIN:VCALENDAR
VERSION:2.0
PRODID:-//ChamberMaster//Event Calendar 2.0//EN
METHOD:PUBLISH
X-PUBLISHED-TTL:P3D
REFRESH-INTERVAL:P3D
CALSCALE:GREGORIAN
BEGIN:VEVENT
DTSTART:20251212T163000Z
DTEND:20251212T170000Z
X-MICROSOFT-CDO-ALLDAYEVENT:FALSE
SUMMARY:Ribbon Cutting - Blue Ridge Massage Therapy & Natural Bloom Esthetics (December 2025)
DESCRIPTION:Double the Businesses\, Double the Celebration!\n\n \n\nJoin us as we cut not one\, but two ribbons for Blue Ridge Massage Therapy and Natural Bloom Esthetics! This special joint Ribbon Cutting Ceremony celebrates two incredible local businesses dedicated to wellness\, relaxation\, and self-care in our community. Come out\, show your support\, meet the owners\, and help us officially welcome them with twice the excitement. You won't want to miss this double-the-joy event!
X-ALT-DESC;FMTTYPE=text/html:<p style="white-space: pre-wrap\; margin: 0px\; padding: 0px\; caret-color: rgb(62\, 62\, 62)\; color: rgb(62\, 62\, 62)\; font-family: Arial\, Verdana\, Helvetica\, sans-serif\; font-size: 14px\; text-align: center\;"><span style="font-size: 15px\; color: rgb(0\, 0\, 0)\;">Double the Businesses\, Double the Celebration!</span></p>\n\n<p style="white-space: pre-wrap\; margin: 0px\; padding: 0px\; caret-color: rgb(62\, 62\, 62)\; color: rgb(62\, 62\, 62)\; font-family: Arial\, Verdana\, Helvetica\, sans-serif\; font-size: 14px\; text-align: center\;">&nbsp\;</p>\n\n<p style="white-space: pre-wrap\; margin: 0px\; padding: 0px\; caret-color: rgb(62\, 62\, 62)\; color: rgb(62\, 62\, 62)\; font-family: Arial\, Verdana\, Helvetica\, sans-serif\; font-size: 14px\; text-align: center\;"><span style="font-size: 15px\; color: rgb(0\, 0\, 0)\;">Join us as we&nbsp\;cut not one\, but two ribbons&nbsp\;for Blue Ridge Massage Therapy and Natural Bloom Esthetics! This special joint Ribbon Cutting Ceremony celebrates two incredible local businesses dedicated to wellness\, relaxation\, and self-care in our community. Come out\, show your support\, meet the owners\, and help us officially welcome them with twice the excitement. You won&rsquo\;t want to miss this double-the-joy event!</span></p>\n
LOCATION:150 Moore Ave Mount Airy\, NC\, 27030
UID:e.718.1999
SEQUENCE:3
DTSTAMP:20260421T050605Z
URL:https://members.mtairyncchamber.org/events/details/ribbon-cutting-blue-ridge-massage-therapy-natural-bloom-esthetics-december-2025-1999
END:VEVENT

END:VCALENDAR
