BEGIN:VCALENDAR
VERSION:2.0
PRODID:-//ChamberMaster//Event Calendar 2.0//EN
METHOD:PUBLISH
X-PUBLISHED-TTL:P3D
REFRESH-INTERVAL:P3D
CALSCALE:GREGORIAN
BEGIN:VEVENT
DTSTART:20251206T190000Z
DTEND:20251206T210000Z
X-MICROSOFT-CDO-ALLDAYEVENT:FALSE
SUMMARY:Ribbon Cutting - Atlantic Coast Sports (December 2025)
DESCRIPTION:Atlantic Coast Sports is celebrating an exciting new chapter with the Grand Opening of their new location! Join us for a ribbon cutting celebration featuring live music\, a closest-to-the-pin golf contest\, and free T-shirts with purchase. Our friends at The Loaded Goat will also be open during the event\, making it the perfect afternoon to shop\, eat\, and enjoy. Special guests are in the works\, so stay tuned for even more reasons to stop by and help us welcome Atlantic Coast Sports to their new home!
X-ALT-DESC;FMTTYPE=text/html:<p><span style="caret-color: rgb(0\, 0\, 0)\; color: rgb(0\, 0\, 0)\; font-family: -webkit-standard\; font-size: medium\;">Atlantic Coast Sports is celebrating an exciting new chapter with the Grand Opening of their new location! Join us for a ribbon cutting celebration featuring live music\, a closest-to-the-pin golf contest\, and free T-shirts with purchase. Our friends at The Loaded Goat will also be open during the event\, making it the perfect afternoon to shop\, eat\, and enjoy. Special guests are in the works\, so stay tuned for even more reasons to stop by and help us welcome Atlantic Coast Sports to their new home!</span></p>\n
LOCATION:Atlantic Coast Sports 245 City Hall St Mount Airy\, NC\, 27030
UID:e.718.1998
SEQUENCE:3
DTSTAMP:20260421T050113Z
URL:https://members.mtairyncchamber.org/events/details/ribbon-cutting-atlantic-coast-sports-december-2025-1998
END:VEVENT

END:VCALENDAR
