BEGIN:VCALENDAR
VERSION:2.0
PRODID:-//ChamberMaster//Event Calendar 2.0//EN
METHOD:PUBLISH
X-PUBLISHED-TTL:P3D
REFRESH-INTERVAL:P3D
CALSCALE:GREGORIAN
BEGIN:VEVENT
DTSTART:20251113T163000Z
DTEND:20251113T180000Z
X-MICROSOFT-CDO-ALLDAYEVENT:FALSE
SUMMARY:Lunch & Learn - Root & Rise Branding Studio (November 2025)
DESCRIPTION:Lunch & Learn: Make Your Marketing Work Harder   How Powerful Branding Drives Real Results\n\nIf you've ever posted\, boosted\, or promoted your business online and wondered why it's not working   this session is for you.\n\nJoin Jillian Sheets\, founder and strategic designer behind Root & Rise Branding Studio\, for an engaging and eye-opening Lunch & Learn all about how strong branding transforms your marketing results. Jillian will break down the difference between branding vs. marketing\, share real-world examples of businesses that get it right\, and walk you through a mini brand audit to help you uncover what's holding your marketing back.\n\nYou'll walk away with:\n\n\n	\n	A clear understanding of how branding directly impacts your marketing performance\n	\n	\n	Practical next steps to make your brand more consistent & recognizable\n	\n	\n	Easy shifts to make your social media strategy more effective and human-centered\n	\n\n\nThis isn't another generic marketing talk   it's an empowering\, practical session built to help businesses turn marketing confusion into brand clarity\, and start showing up online with confidence.\n\nPlant the roots of your brand\, and watch your business rise.
X-ALT-DESC;FMTTYPE=text/html:<p style="caret-color: rgb(0\, 0\, 0)\; color: rgb(0\, 0\, 0)\;"><strong>Lunch &amp\; Learn: Make Your Marketing Work Harder &mdash\; How Powerful Branding Drives Real Results</strong></p>\n\n<p style="font-size: 16px\; caret-color: rgb(0\, 0\, 0)\; color: rgb(0\, 0\, 0)\; font-family: Aptos\;">If you&rsquo\;ve ever posted\, boosted\, or promoted your business online and wondered&nbsp\;<em>why it&rsquo\;s not working</em>&nbsp\;&mdash\; this session is for you.</p>\n\n<p style="font-size: 16px\; caret-color: rgb(0\, 0\, 0)\; color: rgb(0\, 0\, 0)\; font-family: Aptos\;">Join&nbsp\;<strong>Jillian Sheets</strong>\, founder and strategic designer behind&nbsp\;<strong>Root &amp\; Rise Branding Studio</strong>\, for an engaging and eye-opening&nbsp\;<strong>Lunch &amp\; Learn</strong>&nbsp\;all about how strong branding transforms your marketing results. Jillian will break down the difference between&nbsp\;<strong>branding vs. marketing</strong>\, share real-world examples of businesses that get it right\, and walk you through a&nbsp\;<strong>mini brand audit</strong>&nbsp\;to help you uncover what&rsquo\;s holding your marketing back.</p>\n\n<p style="font-size: 16px\; caret-color: rgb(0\, 0\, 0)\; color: rgb(0\, 0\, 0)\; font-family: Aptos\;">You&rsquo\;ll walk away with:</p>\n\n<ul style="font-size: 16px\; caret-color: rgb(0\, 0\, 0)\; color: rgb(0\, 0\, 0)\; font-family: Aptos\;">\n	<li>\n	<p>A clear understanding of how branding directly impacts your marketing performance</p>\n	</li>\n	<li>\n	<p>Practical next steps to make your brand more consistent &amp\; recognizable</p>\n	</li>\n	<li>\n	<p>Easy shifts to make your social media strategy more effective and human-centered</p>\n	</li>\n</ul>\n\n<p style="font-size: 16px\; caret-color: rgb(0\, 0\, 0)\; color: rgb(0\, 0\, 0)\; font-family: Aptos\;">This isn&rsquo\;t another generic marketing talk &mdash\; it&rsquo\;s an empowering\, practical session built to help businesses&nbsp\;<strong>turn marketing confusion into brand clarity\,</strong>&nbsp\;and start showing up online with confidence.</p>\n\n<p style="font-size: 16px\; caret-color: rgb(0\, 0\, 0)\; color: rgb(0\, 0\, 0)\; font-family: Aptos\;"><strong>Plant the roots of your brand\, and watch your business rise.</strong></p>\n
LOCATION:Crisanthemum Studios 126 W Main St\, Pilot Mountain\, NC 27041
UID:e.718.1987
SEQUENCE:3
DTSTAMP:20260421T061320Z
URL:https://members.mtairyncchamber.org/events/details/lunch-learn-root-rise-branding-studio-november-2025-1987
END:VEVENT

END:VCALENDAR
