BEGIN:VCALENDAR
VERSION:2.0
PRODID:-//ChamberMaster//Event Calendar 2.0//EN
METHOD:PUBLISH
X-PUBLISHED-TTL:P3D
REFRESH-INTERVAL:P3D
CALSCALE:GREGORIAN
BEGIN:VEVENT
DTSTART:20250910T153000Z
DTEND:20250910T170000Z
X-MICROSOFT-CDO-ALLDAYEVENT:FALSE
SUMMARY:Lunch & Learn - RiverTrail Technology (September 2025)
DESCRIPTION:FREE EVENT\n\n"Expect the Unexpected: Protecting Your Business from Cyber and Real-World Disasters."\n\n\n\nWith the Lunch & Learn falling the day before September 11th\, this session will focus on how sudden\, unexpected events whether cyberattacks\, natural disasters\, or system failures can disrupt a business\, and how to prepare and recover quickly. The goal is to give attendees a practical plan to keep their business running no matter what.
X-ALT-DESC;FMTTYPE=text/html:<p style="caret-color: rgb(0\, 0\, 0)\; color: rgb(0\, 0\, 0)\;"><em><strong>FREE EVENT</strong></em><br />\n<span style="font-size: 15px\; color: rgb(0\, 0\, 0)\;">&ldquo\;Expect the Unexpected: Protecting Your Business from Cyber and Real-World Disasters.&rdquo\;<br />\n<br />\nWith the Lunch &amp\; Learn falling the day before September 11th\, this session will focus on how sudden\, unexpected events&mdash\;whether cyberattacks\, natural disasters\, or system failures&mdash\;can disrupt a business\, and how to prepare and recover quickly. The goal is to give attendees a practical plan to keep their business running no matter what.</span></p>\n
LOCATION:Mount Airy Museum Third Floor 301 N Main St\, Mount Airy\, NC 27030
UID:e.718.1974
SEQUENCE:3
DTSTAMP:20260421T083033Z
URL:https://members.mtairyncchamber.org/events/details/lunch-learn-rivertrail-technology-september-2025-1974
END:VEVENT

END:VCALENDAR
