BEGIN:VCALENDAR
VERSION:2.0
PRODID:-//ChamberMaster//Event Calendar 2.0//EN
METHOD:PUBLISH
X-PUBLISHED-TTL:P3D
REFRESH-INTERVAL:P3D
CALSCALE:GREGORIAN
BEGIN:VEVENT
DTSTART:20250416T153000Z
DTEND:20250416T170000Z
X-MICROSOFT-CDO-ALLDAYEVENT:FALSE
SUMMARY:Lunch & Learn - Demystifying Google (April 2025)
DESCRIPTION:FREE EVENT\n\nJoin Bethany Seymour of Seymour Digital Marketing for a hands-on workshop exploring the key elements of online marketing. Learn how websites\, social media\, and reviews shape your digital presence and use Bethany's expert checklist to identify strengths and areas for improvement. Take control of your online marketing with confidence!
X-ALT-DESC;FMTTYPE=text/html:<p style="caret-color: rgb(0\, 0\, 0)\; color: rgb(0\, 0\, 0)\;"><em><strong>FREE EVENT</strong></em></p>\n\n<p>Join Bethany Seymour of Seymour Digital Marketing for a hands-on workshop exploring the key elements of online marketing. Learn how websites\, social media\, and reviews shape your digital presence and use Bethany&rsquo\;s expert checklist to identify strengths and areas for improvement. Take control of your online marketing with confidence!</p>\n
LOCATION:The Children's Center of Northwest North Carolina 520 N Main St.\, Dobson\, NC 27017
UID:e.718.1952
SEQUENCE:3
DTSTAMP:20260421T100018Z
URL:https://members.mtairyncchamber.org/events/details/lunch-learn-demystifying-google-april-2025-1952
END:VEVENT

END:VCALENDAR
