BEGIN:VCALENDAR
VERSION:2.0
PRODID:-//ChamberMaster//Event Calendar 2.0//EN
METHOD:PUBLISH
X-PUBLISHED-TTL:P3D
REFRESH-INTERVAL:P3D
CALSCALE:GREGORIAN
BEGIN:VEVENT
DTSTART:20250312T153000Z
DTEND:20250312T170000Z
X-MICROSOFT-CDO-ALLDAYEVENT:FALSE
SUMMARY:Lunch & Learn - Are You Being Robbed? LegalShield (March 2025)
DESCRIPTION:FREE EVENT\n\nJoin us for an engaging and educational Lunch & Learn session\, Are You Being Robbed?\, sponsored by LegalShield / IDShield. Our speaker\, Don Masura\, brings extensive expertise in business efficiency and risk management.\n\nDon will uncover the hidden "HR Profit Bandits" that may be quietly draining your business and share actionable strategies to eliminate them. Don't miss this opportunity to gain valuable insights\, network with other professionals\, and enjoy a delicious lunch!
X-ALT-DESC;FMTTYPE=text/html:<p style="caret-color: rgb(0\, 0\, 0)\; color: rgb(0\, 0\, 0)\;"><em><strong>FREE EVENT</strong></em></p>\n\n<p>Join us for an engaging and educational <strong>Lunch &amp\; Learn</strong> session\, <strong>Are You Being Robbed?</strong>\, sponsored by <strong>LegalShield / IDShield</strong>. Our speaker\, <strong>Don Masura</strong>\, brings extensive expertise in business efficiency and risk management.</p>\n\n<p>Don will uncover the hidden <strong>&quot\;HR Profit Bandits&quot\;</strong> that may be quietly draining your business and share actionable strategies to eliminate them. Don&rsquo\;t miss this opportunity to gain valuable insights\, network with other professionals\, and enjoy a delicious lunch!</p>\n
LOCATION:Surry County Service Center 915 E Atkins St.\, Dobson\, NC 27017
UID:e.718.1946
SEQUENCE:3
DTSTAMP:20260419T170315Z
URL:https://members.mtairyncchamber.org/events/details/lunch-learn-are-you-being-robbed-legalshield-march-2025-1946
END:VEVENT

END:VCALENDAR
