BEGIN:VCALENDAR
VERSION:2.0
PRODID:-//ChamberMaster//Event Calendar 2.0//EN
METHOD:PUBLISH
X-PUBLISHED-TTL:P3D
REFRESH-INTERVAL:P3D
CALSCALE:GREGORIAN
BEGIN:VEVENT
DTSTART:20250924T123000Z
DTEND:20250924T153000Z
X-MICROSOFT-CDO-ALLDAYEVENT:FALSE
SUMMARY:Lead Where You Live: Influence\, Advocate\, Serve
DESCRIPTION:UNLOCK THE PROFESSIONAL POWER OF CIVIC ENGAGEMENT!\n\nLearn how getting involved in local government\, nonprofit boards\, and community committees can help you build your network\, develop leadership skills\, and gain real-world experience. Learn how local systems work\, and discover how serving your community can boost your r sum  and open doors to new career opportunities.
X-ALT-DESC;FMTTYPE=text/html:UNLOCK THE PROFESSIONAL POWER OF CIVIC ENGAGEMENT!<br />\nLearn how getting involved in local government\, nonprofit boards\, and&nbsp\;community committees can help you build your network\, develop&nbsp\;leadership skills\, and gain real-world experience. Learn how local&nbsp\;systems work\, and discover how serving your community can boost your&nbsp\;r&eacute\;sum&eacute\; and open doors to new career opportunities.
LOCATION:Shelton-Badgett NC Center for Viticulture and Enology\, Surry Community College 630 S Main Street\, Dobson\, NC 27017
UID:e.718.1977
SEQUENCE:3
DTSTAMP:20260421T091537Z
URL:https://members.mtairyncchamber.org/events/details/lead-where-you-live-influence-advocate-serve-1977
END:VEVENT

END:VCALENDAR
