BEGIN:VCALENDAR
VERSION:2.0
PRODID:-//ChamberMaster//Event Calendar 2.0//EN
METHOD:PUBLISH
X-PUBLISHED-TTL:P3D
REFRESH-INTERVAL:P3D
CALSCALE:GREGORIAN
BEGIN:VEVENT
DTSTART:20260311T140000Z
DTEND:20260311T150000Z
X-MICROSOFT-CDO-ALLDAYEVENT:FALSE
SUMMARY:From WiFi to WiFi 7: What’s Next? - Chamber Tech Support Group (March 2026)
DESCRIPTION:We're excited to introduce the Chamber Tech Support Group\, a new advisory group designed for those in tech industries and tech-driven businesses. This group will bring together business owners and professionals to share knowledge\, explore digital tools\, and strengthen Mount Airy's technology presence. \n\n \n\nJoin us for our first meeting\, "From WiFi to WiFi 7: What's Next?" as we explore the evolution of wireless connectivity and what the latest advancements mean for your business. Whether you're in IT\, cybersecurity\, digital marketing\, or simply interested in staying ahead of technology trends\, this conversation is for you.
X-ALT-DESC;FMTTYPE=text/html:<p style="white-space: pre-wrap\; margin: 0px\; padding: 0px\; caret-color: rgb(62\, 62\, 62)\; color: rgb(62\, 62\, 62)\; font-family: Arial\, Verdana\, Helvetica\, sans-serif\; font-size: 14px\; text-align: center\;"><span style="font-size: 15px\; color: rgb(0\, 0\, 0)\;"><quill-soft-break style="display: inline\;">&#65279\;</quill-soft-break>We&rsquo\;re excited to introduce the&nbsp\;</span><span style="font-size: 15px\; color: rgb(0\, 0\, 0)\; font-weight: bold\;">Chamber Tech Support Group</span><span style="font-size: 15px\; color: rgb(0\, 0\, 0)\;">\, a </span><span style="font-size: 15px\; color: rgb(0\, 0\, 0)\; font-weight: bold\;">new advisory group designed for those in tech industries and tech-driven businesses</span><span style="font-size: 15px\; color: rgb(0\, 0\, 0)\;">. This group will bring together business owners and professionals to share knowledge\, explore digital tools\, and strengthen Mount Airy&rsquo\;s technology presence.</span><span style="font-size: 15px\;"><quill-soft-break style="display: inline\;">&#65279\;<br />\n&#65279\;</quill-soft-break></span></p>\n\n<p style="white-space: pre-wrap\; margin: 0px\; padding: 0px\; caret-color: rgb(62\, 62\, 62)\; color: rgb(62\, 62\, 62)\; font-family: Arial\, Verdana\, Helvetica\, sans-serif\; font-size: 14px\; text-align: center\;"><span style="font-size: 15px\; color: rgb(0\, 0\, 0)\;">Join us for our first meeting\,&nbsp\;</span><span style="font-size: 15px\; color: rgb(0\, 0\, 0)\; font-weight: bold\;">&ldquo\;From WiFi to WiFi 7: What&rsquo\;s Next?</span><span style="font-size: 15px\; color: rgb(0\, 0\, 0)\;">&rdquo\;&nbsp\;as we explore the evolution of wireless connectivity and what the latest advancements mean for your business. Whether you&rsquo\;re in IT\, cybersecurity\, digital marketing\, or simply interested in staying ahead of technology trends\, this conversation is for you.</span></p>\n
LOCATION:Mount Airy Public Library 145 Rockford St #4759\, Mount Airy\, NC 27030
UID:e.718.2008
SEQUENCE:3
DTSTAMP:20260421T000351Z
URL:https://members.mtairyncchamber.org/events/details/from-wifi-to-wifi-7-what-s-next-chamber-tech-support-group-march-2026-2008
END:VEVENT

END:VCALENDAR
