BEGIN:VCALENDAR
VERSION:2.0
PRODID:-//ChamberMaster//Event Calendar 2.0//EN
METHOD:PUBLISH
X-PUBLISHED-TTL:P3D
REFRESH-INTERVAL:P3D
CALSCALE:GREGORIAN
BEGIN:VEVENT
DTSTART:20260203T230000Z
DTEND:20260204T010000Z
X-MICROSOFT-CDO-ALLDAYEVENT:FALSE
SUMMARY:Fast Pitch Politics (February 2026)
DESCRIPTION:Join the Greater Mount Airy Chamber of Commerce for Fast Pitch Politics: Meet Your Primary Candidates a fast-paced\, nonpartisan evening designed to connect voters\, business leaders\, and candidates ahead of the March primary elections. Each candidate gets 3 minutes at the mic to share their priorities\, followed by time to connect and ask questions no debates\, no panels\, just real conversations. \n\n\n\n	\n	Nonpartisan\n	\n	\n	3-minute mic time for each candidate\n	\n	\n	Limited menu & drinks available for purchase\n	\n	\n	Connect. Ask. Engage. Decide.\n	\n	\n	 Doors Open 4:30pm Mics at 6:00pm Sharp\n	\n	\n	Free & open to all!
X-ALT-DESC;FMTTYPE=text/html:<p><span style="font-size:14px\;"><span class="a_GcMg font-feature-liga-off font-feature-clig-off font-feature-calt-off text-decoration-none text-strikethrough-none" style="caret-color: rgb(1\, 0\, 128)\; font-kerning: normal\;">Join the Greater Mount Airy Chamber of Commerce for Fast Pitch Politics: Meet Your Primary Candidates&mdash\;a fast-paced\, nonpartisan evening designed to connect voters\, business leaders\, and candidates ahead of the March primary elections.&nbsp\;</span><span class="a_GcMg font-feature-liga-off font-feature-clig-off font-feature-calt-off text-decoration-none text-strikethrough-none" style="caret-color: rgb(1\, 0\, 128)\; font-kerning: normal\;">Each candidate gets 3 minutes at the mic to share their priorities\, followed by time to connect and ask questions&mdash\;no debates\, no panels\, just real conversations.&nbsp\;</span></span></p>\n\n<div style="box-sizing: inherit\; margin-top: 0px\; margin-right: 0px\; margin-bottom: var(--spacing-small)\; margin-left: 0px\; padding: 0px\; border: 0px\; font-size: 15px\; vertical-align: baseline\; caret-color: rgb(213\, 216\, 223)\; color: rgb(213\, 216\, 223)\; font-family: Figtree\, Roboto\, &quot\;Noto Sans Hebrew&quot\;\, &quot\;Noto Kufi Arabic&quot\;\, &quot\;Noto Sans JP&quot\;\, sans-serif\; outline: currentcolor !important\;">\n<ul>\n	<li style="caret-color: rgb(51\, 51\, 51)\; color: rgb(51\, 51\, 51)\; font-family: sans-serif\, Arial\, Verdana\, &quot\;Trebuchet MS&quot\;\; font-size: 13px\;">\n	<div style="box-sizing: inherit\; margin-top: 0px\; margin-right: 0px\; margin-bottom: var(--spacing-small)\; margin-left: 0px\; padding: 0px\; border: 0px\; font-size: 15px\; vertical-align: baseline\; caret-color: rgb(213\, 216\, 223)\; color: rgb(213\, 216\, 223)\; font-family: Figtree\, Roboto\, &quot\;Noto Sans Hebrew&quot\;\, &quot\;Noto Kufi Arabic&quot\;\, &quot\;Noto Sans JP&quot\;\, sans-serif\; outline: currentcolor !important\;"><span style="color: rgb(0\, 0\, 0)\;"><span style="font-size: 14px\;"><span style="font-family: arial\;">Nonpartisan</span></span></span></div>\n	</li>\n	<li style="caret-color: rgb(51\, 51\, 51)\; color: rgb(51\, 51\, 51)\; font-family: sans-serif\, Arial\, Verdana\, &quot\;Trebuchet MS&quot\;\; font-size: 13px\;">\n	<div style="box-sizing: inherit\; margin-top: 0px\; margin-right: 0px\; margin-bottom: var(--spacing-small)\; margin-left: 0px\; padding: 0px\; border: 0px\; font-size: 15px\; vertical-align: baseline\; caret-color: rgb(213\, 216\, 223)\; color: rgb(213\, 216\, 223)\; font-family: Figtree\, Roboto\, &quot\;Noto Sans Hebrew&quot\;\, &quot\;Noto Kufi Arabic&quot\;\, &quot\;Noto Sans JP&quot\;\, sans-serif\; outline: currentcolor !important\;"><span style="color: rgb(0\, 0\, 0)\;"><span style="font-size: 14px\;"><span style="font-family: arial\;">3-minute mic time for each candidate</span></span></span></div>\n	</li>\n	<li style="caret-color: rgb(51\, 51\, 51)\; color: rgb(51\, 51\, 51)\; font-family: sans-serif\, Arial\, Verdana\, &quot\;Trebuchet MS&quot\;\; font-size: 13px\;">\n	<div style="box-sizing: inherit\; margin-top: 0px\; margin-right: 0px\; margin-bottom: var(--spacing-small)\; margin-left: 0px\; padding: 0px\; border: 0px\; font-size: 15px\; vertical-align: baseline\; caret-color: rgb(213\, 216\, 223)\; color: rgb(213\, 216\, 223)\; font-family: Figtree\, Roboto\, &quot\;Noto Sans Hebrew&quot\;\, &quot\;Noto Kufi Arabic&quot\;\, &quot\;Noto Sans JP&quot\;\, sans-serif\; outline: currentcolor !important\;"><span style="color: rgb(0\, 0\, 0)\;"><span style="font-size: 14px\;"><span style="font-family: arial\;">Limited menu &amp\; drinks available for purchase</span></span></span></div>\n	</li>\n	<li style="caret-color: rgb(51\, 51\, 51)\; color: rgb(51\, 51\, 51)\; font-family: sans-serif\, Arial\, Verdana\, &quot\;Trebuchet MS&quot\;\; font-size: 13px\;">\n	<div style="box-sizing: inherit\; margin-top: 0px\; margin-right: 0px\; margin-bottom: var(--spacing-small)\; margin-left: 0px\; padding: 0px\; border: 0px\; font-size: 15px\; vertical-align: baseline\; caret-color: rgb(213\, 216\, 223)\; color: rgb(213\, 216\, 223)\; font-family: Figtree\, Roboto\, &quot\;Noto Sans Hebrew&quot\;\, &quot\;Noto Kufi Arabic&quot\;\, &quot\;Noto Sans JP&quot\;\, sans-serif\; outline: currentcolor !important\;"><span style="color: rgb(0\, 0\, 0)\;"><span style="font-size: 14px\;"><span style="font-family: arial\;">Connect. Ask. Engage. Decide.</span></span></span></div>\n	</li>\n	<li style="caret-color: rgb(51\, 51\, 51)\; color: rgb(51\, 51\, 51)\; font-family: sans-serif\, Arial\, Verdana\, &quot\;Trebuchet MS&quot\;\; font-size: 13px\;">\n	<div style="box-sizing: inherit\; margin-top: 0px\; margin-right: 0px\; margin-bottom: var(--spacing-small)\; margin-left: 0px\; padding: 0px\; border: 0px\; font-size: 15px\; vertical-align: baseline\; caret-color: rgb(213\, 216\, 223)\; color: rgb(213\, 216\, 223)\; font-family: Figtree\, Roboto\, &quot\;Noto Sans Hebrew&quot\;\, &quot\;Noto Kufi Arabic&quot\;\, &quot\;Noto Sans JP&quot\;\, sans-serif\; outline: currentcolor !important\;"><span style="color: rgb(0\, 0\, 0)\;"><span style="font-size: 14px\;"><span style="font-family: arial\;">&#8203\;</span></span></span><span style="color: rgb(0\, 0\, 0)\;"><span style="font-size: 14px\;"><span style="font-family: arial\;">Doors Open 4:30pm Mics at 6:00pm Sharp</span></span></span></div>\n	</li>\n	<li style="caret-color: rgb(51\, 51\, 51)\; color: rgb(51\, 51\, 51)\; font-family: sans-serif\, Arial\, Verdana\, &quot\;Trebuchet MS&quot\;\; font-size: 13px\;">\n	<div style="box-sizing: inherit\; margin-top: 0px\; margin-right: 0px\; margin-bottom: var(--spacing-small)\; margin-left: 0px\; padding: 0px\; border: 0px\; font-size: 15px\; vertical-align: baseline\; caret-color: rgb(213\, 216\, 223)\; color: rgb(213\, 216\, 223)\; font-family: Figtree\, Roboto\, &quot\;Noto Sans Hebrew&quot\;\, &quot\;Noto Kufi Arabic&quot\;\, &quot\;Noto Sans JP&quot\;\, sans-serif\; outline: currentcolor !important\;"><span style="color: rgb(0\, 0\, 0)\;"><span style="font-size: 14px\;"><span style="font-family: arial\;">Free &amp\; open to all!</span></span></span></div>\n	</li>\n</ul>\n</div>\n
LOCATION:Angry Troll 308 N Main St. Mount Airy\, NC
UID:e.718.2002
SEQUENCE:3
DTSTAMP:20260421T013955Z
URL:https://members.mtairyncchamber.org/events/details/fast-pitch-politics-february-2026-2002
END:VEVENT

END:VCALENDAR
