BEGIN:VCALENDAR
VERSION:2.0
PRODID:-//ChamberMaster//Event Calendar 2.0//EN
METHOD:PUBLISH
X-PUBLISHED-TTL:P3D
REFRESH-INTERVAL:P3D
CALSCALE:GREGORIAN
BEGIN:VEVENT
DTSTART:20260505T140000Z
DTEND:20260505T150000Z
X-MICROSOFT-CDO-ALLDAYEVENT:FALSE
SUMMARY:Chamber Tech Support Group - Facebook Ads & The Marketing Algorithm (May 2026)
DESCRIPTION:Want to get more out of your marketing?\n\nJoin us for an upcoming Chamber Tech Time session focused on Facebook Ads and the Marketing Algorithm. We'll break down how to reach the right audience\, boost engagement\, and turn your efforts into real results.\n\nThis is a great opportunity to connect with other local professionals\, share ideas\, and walk away with practical strategies you can start using right away.
X-ALT-DESC;FMTTYPE=text/html:<p style="white-space: pre-wrap\; margin: 0px\; padding: 0px\; caret-color: rgb(62\, 62\, 62)\; color: rgb(62\, 62\, 62)\; font-family: Arial\, Verdana\, Helvetica\, sans-serif\; font-size: 14px\; text-align: center\;"><span style="font-size: 15px\; color: rgb(0\, 0\, 0)\;"><quill-soft-break style="display: inline\;"></quill-soft-break></span></p>\n\n<p data-end="162" data-start="116" style="caret-color: rgb(0\, 0\, 0)\; color: rgb(0\, 0\, 0)\;">&#128187\;&#128227\; Want to get more out of your marketing?</p>\n\n<p data-end="383" data-start="164" style="caret-color: rgb(0\, 0\, 0)\; color: rgb(0\, 0\, 0)\;">Join us for an upcoming&nbsp\;<strong data-end="209" data-start="188">Chamber Tech Time</strong>&nbsp\;session focused on&nbsp\;<strong data-end="273" data-start="229">Facebook Ads and the Marketing Algorithm</strong>. We&rsquo\;ll break down how to reach the right audience\, boost engagement\, and turn your efforts into real results.</p>\n\n<p data-end="544" data-start="385" style="caret-color: rgb(0\, 0\, 0)\; color: rgb(0\, 0\, 0)\;">This is a great opportunity to&nbsp\;<strong data-end="458" data-start="416">connect with other local professionals</strong>\, share ideas\, and walk away with practical strategies you can start using right away.</p>\n
LOCATION:Mount Airy Public Library 145 Rockford St #4759\, Mount Airy\, NC 27030
UID:e.718.2021
SEQUENCE:3
DTSTAMP:20260423T223541Z
URL:https://members.mtairyncchamber.org/events/details/chamber-tech-support-group-facebook-ads-the-marketing-algorithm-may-2026-2021
END:VEVENT

END:VCALENDAR
