BEGIN:VCALENDAR
VERSION:2.0
PRODID:-//ChamberMaster//Event Calendar 2.0//EN
METHOD:PUBLISH
X-PUBLISHED-TTL:P3D
REFRESH-INTERVAL:P3D
CALSCALE:GREGORIAN
BEGIN:VEVENT
DTSTART:20250109T163000Z
DTEND:20250109T180000Z
X-MICROSOFT-CDO-ALLDAYEVENT:FALSE
SUMMARY:Chamber Lecture Series: Senator Eddie Settle (January 2025)
DESCRIPTION:Join us for an engaging event in the Chamber Lecture Series\, featuring North Carolina Senator Eddie Settle! Hosted by the Greater Mount Airy Chamber of Commerce Public Policy Committee\, this series is designed to bring local and state government leaders directly to our community. It's a unique opportunity to learn more about government policies\, hear updates on the state of government\, and get insight into plans that may impact the future of our region.\n\nThis session will be held at the scenic White Sulphur Springs\, where you can connect with fellow residents and business leaders over a meal while gaining valuable insights. Whether you're a business owner\, operator\, or an involved community member\, this event is your chance to stay informed and ask questions that matter to you. Don't miss this opportunity to engage with your government leaders come be a part of the conversation!
X-ALT-DESC;FMTTYPE=text/html:<p>Join us for an engaging event in the Chamber Lecture Series\, featuring North Carolina Senator Eddie Settle! Hosted by the Greater Mount Airy Chamber of Commerce Public Policy Committee\, this series is designed to bring local and state government leaders directly to our community. It&rsquo\;s a unique opportunity to learn more about government policies\, hear updates on the state of government\, and get insight into plans that may impact the future of our region.</p>\n\n<p>This session will be held at the scenic White Sulphur Springs\, where you can connect with fellow residents and business leaders over a meal while gaining valuable insights. Whether you&rsquo\;re a business owner\, operator\, or an involved community member\, this event is your chance to stay informed and ask questions that matter to you. Don&rsquo\;t miss this opportunity to engage with your government leaders&mdash\;come be a part of the conversation!</p>\n
LOCATION:White Sulphur Springs 133 White Sulphur Springs Rd\, Mount Airy\, NC\, 27030
UID:e.718.1935
SEQUENCE:3
DTSTAMP:20260421T083217Z
URL:https://members.mtairyncchamber.org/events/details/chamber-lecture-series-senator-eddie-settle-january-2025-1935
END:VEVENT

END:VCALENDAR
