BEGIN:VCALENDAR
VERSION:2.0
PRODID:-//ChamberMaster//Event Calendar 2.0//EN
METHOD:PUBLISH
X-PUBLISHED-TTL:P3D
REFRESH-INTERVAL:P3D
CALSCALE:GREGORIAN
BEGIN:VEVENT
DTSTART:20251117T180000Z
DTEND:20251117T183000Z
X-MICROSOFT-CDO-ALLDAYEVENT:FALSE
SUMMARY:Carolina HealthWorks Information Virtual Session (Nov 17 2025)
DESCRIPTION:I am thrilled to share an exciting new opportunity for Greater Mount Airy Chamber of Commerce Members and small businesses across our community. The NC Chamber\, in partnership with Blue Cross and Blue Shield of North Carolina\, has launched Carolina HealthWorks   a new\, more affordable health plan option designed specifically for small businesses\, their employees\, and their families. \n\nAs a member of the Greater Mount Airy Chamber\, our local small businesses (2-50 Eligible Employees) will have access to new healthcare plans\, designed to be lower than current marketplace plans.\n\n\n\nJoin us for a virtual information session and Q&A\, sponsored by Bass Legacy Health Benefits
X-ALT-DESC;FMTTYPE=text/html:<p><span data-teams="true" style="caret-color: rgb(0\, 0\, 0)\; color: rgb(0\, 0\, 0)\;">I am thrilled to share an exciting new opportunity for&nbsp\;<strong>Greater Mount Airy Chamber of Commerce Members</strong>&nbsp\;and small businesses across our community. The NC Chamber\, in partnership with&nbsp\;<strong>Blue Cross and Blue Shield of North Carolina</strong>\, has launched&nbsp\;<strong>Carolina HealthWorks</strong>&nbsp\;&mdash\; a new\, more affordable health plan option designed specifically for small businesses\, their employees\, and their families.&nbsp\;</span></p>\n\n<p><span data-teams="true" style="caret-color: rgb(0\, 0\, 0)\; color: rgb(0\, 0\, 0)\;">As a member of the Greater Mount Airy Chamber\, our local small businesses (2-50 Eligible Employees) will have access to new healthcare plans\, designed to be lower than current marketplace plans.</span><br />\n<br />\n<span style="caret-color: rgb(0\, 0\, 0)\; color: rgb(0\, 0\, 0)\;">Join us for a virtual information session and Q&amp\;A\, sponsored by Bass Legacy Health Benefits</span></p>\n
LOCATION:Virtual - Teams Invite will be sent out following registration.
UID:e.718.1997
SEQUENCE:3
DTSTAMP:20260421T061632Z
URL:https://members.mtairyncchamber.org/events/details/carolina-healthworks-information-virtual-session-nov-17-2025-1997
END:VEVENT

END:VCALENDAR
