BEGIN:VCALENDAR
VERSION:2.0
PRODID:-//ChamberMaster//Event Calendar 2.0//EN
METHOD:PUBLISH
X-PUBLISHED-TTL:P3D
REFRESH-INTERVAL:P3D
CALSCALE:GREGORIAN
BEGIN:VEVENT
DTSTART:20251112T140000Z
DTEND:20251112T150000Z
X-MICROSOFT-CDO-ALLDAYEVENT:FALSE
SUMMARY:Carolina HealthWorks Information Session (November 2025)
DESCRIPTION:I am thrilled to share an exciting new opportunity for Greater Mount Airy Chamber of Commerce Members and small businesses across our community. The NC Chamber\, in partnership with Blue Cross and Blue Shield of North Carolina\, has launched Carolina HealthWorks   a new\, more affordable health plan option designed specifically for small businesses\, their employees\, and their families. \n\nAs a member of the Greater Mount Airy Chamber\, our local small businesses (2-50 Eligible Employees) will have access to new healthcare plans\, designed to be lower than current marketplace plans.\n\n\n\nCome at 8:30 for coffee from the Blue Bear Coffee - sponsored by Perkins & Associates!
X-ALT-DESC;FMTTYPE=text/html:<p><span data-teams="true" style="caret-color: rgb(0\, 0\, 0)\; color: rgb(0\, 0\, 0)\;">I am thrilled to share an exciting new opportunity for&nbsp\;<strong>Greater Mount Airy Chamber of Commerce Members</strong>&nbsp\;and small businesses across our community. The NC Chamber\, in partnership with&nbsp\;<strong>Blue Cross and Blue Shield of North Carolina</strong>\, has launched&nbsp\;<strong>Carolina HealthWorks</strong>&nbsp\;&mdash\; a new\, more affordable health plan option designed specifically for small businesses\, their employees\, and their families.&nbsp\;</span></p>\n\n<p><span data-teams="true" style="caret-color: rgb(0\, 0\, 0)\; color: rgb(0\, 0\, 0)\;">As a member of the Greater Mount Airy Chamber\, our local small businesses (2-50 Eligible Employees) will have access to new healthcare plans\, designed to be lower than current marketplace plans.</span><br />\n<br />\n<span style="caret-color: rgb(0\, 0\, 0)\; color: rgb(0\, 0\, 0)\;">Come at 8:30 for coffee from the Blue Bear Coffee - sponsored by Perkins &amp\; Associates!</span></p>\n
LOCATION:Mount Airy Public Library 145 Rockford Street\, Mount Airy\, NC 27030
UID:e.718.1995
SEQUENCE:3
DTSTAMP:20260421T061609Z
URL:https://members.mtairyncchamber.org/events/details/carolina-healthworks-information-session-november-2025-1995
END:VEVENT

END:VCALENDAR
