BEGIN:VCALENDAR
VERSION:2.0
PRODID:-//ChamberMaster//Event Calendar 2.0//EN
METHOD:PUBLISH
X-PUBLISHED-TTL:P3D
REFRESH-INTERVAL:P3D
CALSCALE:GREGORIAN
BEGIN:VEVENT
DTSTART:20251106T223000Z
DTEND:20251107T000000Z
X-MICROSOFT-CDO-ALLDAYEVENT:FALSE
SUMMARY:Candidate 101 (November 2025)
DESCRIPTION:Join us for the 2025 Candidate 101 at the Surry County Service Center in Dobson. This is event is hosted in partnership with the Surry County Board of Elections and the Chamber's Public Policy Committee.\n\n\n\nThis session is designed to demystify the process of becoming a candidate and provide the essential knowledge needed to run a successful campaign. Whether you're seriously considering a run or simply curious about how it all works\, this is a great opportunity to get your questions answered. There is no cost to attend. \n\n \n\nWhat You'll Learn:\n\n\n	How to file as a candidate\n	Campaign finance basics and reporting requirements\n	Important deadlines and legal obligations\n	Tips for building a campaign team and strategy\n	The role of local elected officials\n\n\n \n\nWho Should Attend:\n\n\n	First-time candidates\n	Community members interested in public service\n	Supporters and campaign volunteers
X-ALT-DESC;FMTTYPE=text/html:<p>Join us for the 2025&nbsp\;Candidate 101 at the Surry County Service Center in Dobson. This is event is hosted in partnership with the Surry County Board of Elections and the Chamber&#39\;s Public Policy Committee.<br />\n<br />\nThis session is designed to demystify the process of becoming a candidate and provide the essential knowledge needed to run a successful campaign. Whether you&#39\;re seriously considering a run or simply curious about how it all works\, this is a great opportunity to get your questions answered. There is no cost to attend.&nbsp\;</p>\n\n<p style="margin: 0px\; padding: 0px\;">&nbsp\;</p>\n\n<p style="margin: 0px\; padding: 0px\;"><span style="font-weight: bold\;">What You&rsquo\;ll Learn:</span></p>\n\n<ul style="margin: 0px 0px 0px 40px\; padding-right: 0px\; padding-left: 0px\;">\n	<li style="padding: 0px\; margin: 0px\;">How to file as a candidate</li>\n	<li style="padding: 0px\; margin: 0px\;">Campaign finance basics and reporting requirements</li>\n	<li style="padding: 0px\; margin: 0px\;">Important deadlines and legal obligations</li>\n	<li style="padding: 0px\; margin: 0px\;">Tips for building a campaign team and strategy</li>\n	<li style="padding: 0px\; margin: 0px\;">The role of local elected officials</li>\n</ul>\n\n<p style="margin: 0px\; padding: 0px\;">&nbsp\;</p>\n\n<p style="margin: 0px\; padding: 0px\;"><span style="font-weight: bold\;">Who Should Attend:</span></p>\n\n<ul style="margin: 0px 0px 0px 40px\; padding-right: 0px\; padding-left: 0px\;">\n	<li style="padding: 0px\; margin: 0px\;">First-time candidates</li>\n	<li style="padding: 0px\; margin: 0px\;">Community members interested in public service</li>\n	<li style="padding: 0px\; margin: 0px\;">Supporters and campaign volunteers</li>\n</ul>\n\n<p style="margin: 0px\; padding: 0px\;">&nbsp\;</p>\n
LOCATION:Surry County Service Center 915 E Atkins Street\, Dobson\, NC
UID:e.718.1990
SEQUENCE:3
DTSTAMP:20260421T061242Z
URL:https://members.mtairyncchamber.org/events/details/candidate-101-november-2025-1990
END:VEVENT

END:VCALENDAR
