BEGIN:VCALENDAR
VERSION:2.0
PRODID:-//ChamberMaster//Event Calendar 2.0//EN
METHOD:PUBLISH
X-PUBLISHED-TTL:P3D
REFRESH-INTERVAL:P3D
CALSCALE:GREGORIAN
BEGIN:VEVENT
DTSTART:20230928T213000Z
DTEND:20230928T230000Z
X-MICROSOFT-CDO-ALLDAYEVENT:FALSE
SUMMARY:Business After Hours - Xtreme! Marketing September 2023
DESCRIPTION:FREE AFTER-HOURS NETWORKING EVENT\n\n\n\nOn September 28th\, Xtreme! Marketing will host our next Business After Hours event.  At this event\, guests will enjoy light appetizers\, casual business networking\, and have a chance to win some great door prizes. \n\nMore details will be available shortly! Click Register Now above to RSVP. It's free! All Chamber members and prospective members are welcome. \n\n	Dress: business casual\n	Bring business cards\n\nClick Register Now above to RSVP.
X-ALT-DESC;FMTTYPE=text/html:<strong><em>FREE AFTER-HOURS NETWORKING EVENT</em></strong><br />\n<br />\nOn September 28th\, Xtreme! Marketing will host our next Business After Hours event.&nbsp\; At this event\, guests will enjoy light appetizers\, casual business networking\, and have a chance to win some great door prizes.&nbsp\;<br />\nMore details will be available shortly! Click Register Now above to RSVP. It&#39\;s free! All Chamber members and prospective members are welcome.&nbsp\;\n<ul>\n	<li>Dress: business casual</li>\n	<li>Bring business cards</li>\n</ul>\n<strong><span style="font-size: 18px\;">Click&nbsp\;<i>Register Now&nbsp\;</i>above to RSVP.&nbsp\;</span></strong><br />\n<br />\n<br />\n&nbsp\;
LOCATION:Xtreme! Marketing 307 S Academy St Pilot Mountain\, NC 27041
UID:e.718.1855
SEQUENCE:3
DTSTAMP:20260425T215122Z
URL:https://members.mtairyncchamber.org/events/details/business-after-hours-xtreme-marketing-september-2023-1855
END:VEVENT

END:VCALENDAR
