BEGIN:VCALENDAR
VERSION:2.0
PRODID:-//ChamberMaster//Event Calendar 2.0//EN
METHOD:PUBLISH
X-PUBLISHED-TTL:P3D
REFRESH-INTERVAL:P3D
CALSCALE:GREGORIAN
BEGIN:VEVENT
DTSTART:20250925T203000Z
DTEND:20250925T220000Z
X-MICROSOFT-CDO-ALLDAYEVENT:FALSE
SUMMARY:Business After Hours - RidgeCrest (September 2025)
DESCRIPTION:We're in Our Disco Era!  \n\nThursday\, September 25th at 4:30PM\n\n \n\nThe Chamber is stepping into its disco 70s era at the upcoming Business After Hours with RidgeCrest! Get ready for an evening of networking\, groovy community vibes\, and a touch of Saturday Night Fever.   On the menu: "Disco Bites" including sausage balls\, stuffed mushrooms\, salmon bites\, shrimp cocktail\, chicken & waffle bites\, cheesecake bites\, plus a signature Blue Lagoon Margarita.\n\n \n\nMark your calendars and stay tuned this will be one far-out night you won't want to miss!
X-ALT-DESC;FMTTYPE=text/html:<p align="center" style="margin: 0px\; padding: 0px\; caret-color: rgb(62\, 62\, 62)\; color: rgb(62\, 62\, 62)\; font-family: Arial\, Verdana\, Helvetica\, sans-serif\; font-size: 14px\; text-align: center\;"><span style="font-size: 15px\; color: rgb(0\, 0\, 0)\;">&#10024\;&nbsp\;We&rsquo\;re in Our Disco Era!&nbsp\;&#10024\;</span></p>\n\n<p align="center" style="margin: 0px\; padding: 0px\; caret-color: rgb(62\, 62\, 62)\; color: rgb(62\, 62\, 62)\; font-family: Arial\, Verdana\, Helvetica\, sans-serif\; font-size: 14px\; text-align: center\;"><span style="font-size: 15px\; color: rgb(0\, 0\, 0)\; font-weight: bold\;">Thursday\, September 25th at 4:30PM</span></p>\n\n<p align="center" style="margin: 0px\; padding: 0px\; caret-color: rgb(62\, 62\, 62)\; color: rgb(62\, 62\, 62)\; font-family: Arial\, Verdana\, Helvetica\, sans-serif\; font-size: 14px\; text-align: center\;">&nbsp\;</p>\n\n<p align="center" style="margin: 0px\; padding: 0px\; caret-color: rgb(62\, 62\, 62)\; color: rgb(62\, 62\, 62)\; font-family: Arial\, Verdana\, Helvetica\, sans-serif\; font-size: 14px\; text-align: center\;"><span style="font-size: 15px\; color: rgb(0\, 0\, 0)\;">The Chamber is stepping into its disco 70s era at the upcoming&nbsp\;Business After Hours with RidgeCrest! Get ready for an evening of networking\, groovy community vibes\, and a touch of Saturday Night Fever.</span>&nbsp\;<span style="font-size: 15px\; color: rgb(0\, 0\, 0)\;">&#10024\; On the menu: &ldquo\;Disco Bites&rdquo\; including sausage balls\, stuffed mushrooms\, salmon bites\, shrimp cocktail\, chicken &amp\; waffle bites\, cheesecake bites\, plus a signature&nbsp\;Blue Lagoon Margarita.</span></p>\n\n<p align="center" style="margin: 0px\; padding: 0px\; caret-color: rgb(62\, 62\, 62)\; color: rgb(62\, 62\, 62)\; font-family: Arial\, Verdana\, Helvetica\, sans-serif\; font-size: 14px\; text-align: center\;">&nbsp\;</p>\n\n<p align="center" style="margin: 0px\; padding: 0px\; caret-color: rgb(62\, 62\, 62)\; color: rgb(62\, 62\, 62)\; font-family: Arial\, Verdana\, Helvetica\, sans-serif\; font-size: 14px\; text-align: center\;"><span style="font-size: 15px\; color: rgb(0\, 0\, 0)\;">Mark your calendars and stay tuned&mdash\;this will be one far-out night you won&rsquo\;t want to miss!</span></p>\n
LOCATION:RidgeCrest 1000 RidgeCrest Ln. Mount Airy\, NC
UID:e.718.1975
SEQUENCE:3
DTSTAMP:20260421T092140Z
URL:https://members.mtairyncchamber.org/events/details/business-after-hours-ridgecrest-september-2025-1975
END:VEVENT

END:VCALENDAR
