BEGIN:VCALENDAR
VERSION:2.0
PRODID:-//ChamberMaster//Event Calendar 2.0//EN
METHOD:PUBLISH
X-PUBLISHED-TTL:P3D
REFRESH-INTERVAL:P3D
CALSCALE:GREGORIAN
BEGIN:VEVENT
DTSTART:20260507T213000Z
DTEND:20260507T230000Z
X-MICROSOFT-CDO-ALLDAYEVENT:FALSE
SUMMARY:Business After Hours - Mount Airy Museum of Regional History (May 2026)
DESCRIPTION:Be There for the Big Reveal  \n\nAfter nearly a decade of planning and progress with major updates in just the last five years it's time to celebrate! Join us for Business After Hours at the Mount Airy Museum of Regional History as we unveil Phase 3 and the brand-new Business & Industry gallery.\n\n \n\nIf it's been a while since you've stepped inside\, you'll be surprised just how much has changed.\n\n \n\n  Wine on the patio\n\n  Light bites\n\n     Optional mini tours\n\n  No cost to attend
X-ALT-DESC;FMTTYPE=text/html:<div style="margin: 0px\; padding: 0px\; caret-color: rgb(62\, 62\, 62)\; color: rgb(62\, 62\, 62)\; font-family: Arial\, Verdana\, Helvetica\, sans-serif\; font-size: 14px\; text-align: center\;">\n<p style="white-space: pre-wrap\; margin: 0px\; padding: 0px\; caret-color: rgb(62\, 62\, 62)\; color: rgb(62\, 62\, 62)\; font-family: Arial\, Verdana\, Helvetica\, sans-serif\; font-size: 14px\; text-align: center\;"><span style="font-weight: bold\;">Be There for the Big Reveal &#127881\;</span></p>\n\n<p style="white-space: pre-wrap\; margin: 0px\; padding: 0px\; caret-color: rgb(62\, 62\, 62)\; color: rgb(62\, 62\, 62)\; font-family: Arial\, Verdana\, Helvetica\, sans-serif\; font-size: 14px\;">After nearly a decade of planning and progress&mdash\;with major updates in just the last five years&mdash\;it&rsquo\;s time to celebrate! Join us for Business After Hours at the Mount Airy Museum of Regional History as we unveil Phase 3 and the brand-new Business &amp\; Industry gallery.</p>\n\n<p style="white-space: pre-wrap\; margin: 0px\; padding: 0px\; caret-color: rgb(62\, 62\, 62)\; color: rgb(62\, 62\, 62)\; font-family: Arial\, Verdana\, Helvetica\, sans-serif\; font-size: 14px\;">&nbsp\;</p>\n\n<p style="white-space: pre-wrap\; margin: 0px\; padding: 0px\; caret-color: rgb(62\, 62\, 62)\; color: rgb(62\, 62\, 62)\; font-family: Arial\, Verdana\, Helvetica\, sans-serif\; font-size: 14px\;">If it&rsquo\;s been a while since you&rsquo\;ve stepped inside\, you&rsquo\;ll be surprised just how much has changed.</p>\n\n<p style="white-space: pre-wrap\; margin: 0px\; padding: 0px\; caret-color: rgb(62\, 62\, 62)\; color: rgb(62\, 62\, 62)\; font-family: Arial\, Verdana\, Helvetica\, sans-serif\; font-size: 14px\; text-align: center\;">&nbsp\;</p>\n\n<p style="white-space: pre-wrap\; margin: 0px\; padding: 0px\; caret-color: rgb(62\, 62\, 62)\; color: rgb(62\, 62\, 62)\; font-family: Arial\, Verdana\, Helvetica\, sans-serif\; font-size: 14px\; text-align: center\;">&#127863\; Wine on the patio</p>\n\n<p style="white-space: pre-wrap\; margin: 0px\; padding: 0px\; caret-color: rgb(62\, 62\, 62)\; color: rgb(62\, 62\, 62)\; font-family: Arial\, Verdana\, Helvetica\, sans-serif\; font-size: 14px\; text-align: center\;">&#127860\; Light bites</p>\n\n<p style="white-space: pre-wrap\; margin: 0px\; padding: 0px\; caret-color: rgb(62\, 62\, 62)\; color: rgb(62\, 62\, 62)\; font-family: Arial\, Verdana\, Helvetica\, sans-serif\; font-size: 14px\; text-align: center\;">&#128694\;&zwj\;&#9794\;&#65039\; Optional mini tours</p>\n\n<p style="white-space: pre-wrap\; margin: 0px\; padding: 0px\; caret-color: rgb(62\, 62\, 62)\; color: rgb(62\, 62\, 62)\; font-family: Arial\, Verdana\, Helvetica\, sans-serif\; font-size: 14px\; text-align: center\;">&#128683\; No cost to attend</p>\n</div>\n
LOCATION:Mount Airy Museum of Regional History 301 N Main St\, Mt Airy\, NC 27030
UID:e.718.2017
SEQUENCE:3
DTSTAMP:20260422T214644Z
URL:https://members.mtairyncchamber.org/events/details/business-after-hours-mount-airy-museum-of-regional-history-may-2026-2017
END:VEVENT

END:VCALENDAR
