BEGIN:VCALENDAR
VERSION:2.0
PRODID:-//ChamberMaster//Event Calendar 2.0//EN
METHOD:PUBLISH
X-PUBLISHED-TTL:P3D
REFRESH-INTERVAL:P3D
CALSCALE:GREGORIAN
BEGIN:VEVENT
DTSTART:20231212T223000Z
DTEND:20231213T000000Z
X-MICROSOFT-CDO-ALLDAYEVENT:FALSE
SUMMARY:Business After Hours - Mount Airy City Schools\, December 2023
DESCRIPTION:FREE AFTER-HOURS NETWORKING EVENT\nDon your best attire\, bring non-perishables for the Blessing Box\, and indulge in treats from Family and Consumer Science and the Blue Bear Cafe. \n\nExplore the Holiday Entrepreneur Showcase from 5:00 PM until 8:00 PM and the Internship Pitch Symposium from 5:30 PM until 7:00 PM.\n\nPark in front of the high school office for easy access.
X-ALT-DESC;FMTTYPE=text/html:<strong><em>FREE AFTER-HOURS NETWORKING EVENT</em></strong>\n<p class="cvGsUA direction-ltr align-center para-style-body" style="color: rgb(59\, 108\, 130)\; font-family: &quot\;YACgEeV8bIQ 0&quot\;\, _fb_\, auto\; --font-size: 24.1681px\; --line-height: 1.4\; letter-spacing: 0.028em\; line-height: 33px\;"><span class="OYPEnA text-decoration-none text-strikethrough-none" style="color: rgb(187\, 133\, 64)\;">Don your best attire\, bring non-perishables for the Blessing Box\, and indulge in treats from Family and Consumer&nbsp\;Science and the Blue Bear Cafe.</span><span class="OYPEnA text-decoration-none text-strikethrough-none white-space-prewrap"> </span></p>\n\n<p class="cvGsUA direction-ltr align-center para-style-body" style="color: rgb(59\, 108\, 130)\; font-family: &quot\;YACgEeV8bIQ 0&quot\;\, _fb_\, auto\; --font-size: 17.5016px\; --line-height: 1.4\; letter-spacing: 0.028em\; line-height: 24px\;"><span class="OYPEnA text-decoration-none text-strikethrough-none">Explore the Holiday Entrepreneur Showcase from 5:00 PM until 8:00 PM and the Internship Pitch Symposium from 5:30 PM until 7:00 PM.</span></p>\n\n<p class="cvGsUA direction-ltr align-center para-style-body" style="color: rgb(187\, 133\, 64)\; font-family: &quot\;YACgEeV8bIQ 0&quot\;\, _fb_\, auto\; --font-size: 17.5016px\; --line-height: 1.4\; letter-spacing: 0.028em\; line-height: 24px\;"><span class="OYPEnA text-decoration-none text-strikethrough-none">Park in front of the high school office for easy access.</span></p>\n<br />\n<br />\n<br />\n<br />\n&nbsp\;
LOCATION:Mount Airy High School 1011 N South Street Mount Airy\, NC 27030
UID:e.718.1862
SEQUENCE:3
DTSTAMP:20260423T075348Z
URL:https://members.mtairyncchamber.org/events/details/business-after-hours-mount-airy-city-schools-december-2023-1862
END:VEVENT

END:VCALENDAR
