BEGIN:VCALENDAR
VERSION:2.0
PRODID:-//ChamberMaster//Event Calendar 2.0//EN
METHOD:PUBLISH
X-PUBLISHED-TTL:P3D
REFRESH-INTERVAL:P3D
CALSCALE:GREGORIAN
BEGIN:VEVENT
DTSTART:20240627T213000Z
DTEND:20240627T230000Z
X-MICROSOFT-CDO-ALLDAYEVENT:FALSE
SUMMARY:Business After Hours - Game Night at Cross Creek Country Club (June 2024)
DESCRIPTION:FREE EVENT\n\nJoin us for an evening of networking\, fun\, and friendly competition at the Business After Hours - Games Night\, hosted by Cross Creek Country Club & Cooke Rentals!   This event offers a fantastic opportunity to connect with local business leaders\, entrepreneurs\, and professionals in a relaxed and enjoyable setting. Enjoy a variety of games\, from classic board games to interactive team challenges.
X-ALT-DESC;FMTTYPE=text/html:<em><strong>FREE EVENT</strong></em><br />\nJoin us for an evening of networking\, fun\, and friendly competition at the Business After Hours - Games Night\, hosted by Cross Creek Country Club &amp\; Cooke Rentals! &#127881\; This event offers a fantastic opportunity to connect with local business leaders\, entrepreneurs\, and professionals in a relaxed and enjoyable setting. Enjoy a variety of games\, from classic board games to interactive team challenges. &#129309\;
LOCATION:Cross Creek Country Club 1129 Greenhill Road Mt Airy\, NC 27030
UID:e.718.1909
SEQUENCE:3
DTSTAMP:20260421T034947Z
URL:https://members.mtairyncchamber.org/events/details/business-after-hours-game-night-at-cross-creek-country-club-june-2024-1909
END:VEVENT

END:VCALENDAR
