BEGIN:VCALENDAR
VERSION:2.0
PRODID:-//ChamberMaster//Event Calendar 2.0//EN
METHOD:PUBLISH
X-PUBLISHED-TTL:P3D
REFRESH-INTERVAL:P3D
CALSCALE:GREGORIAN
BEGIN:VEVENT
DTSTART:20250320T213000Z
DTEND:20250320T230000Z
X-MICROSOFT-CDO-ALLDAYEVENT:FALSE
SUMMARY:Business After Hours - Cross Creek Country Club & Cooke Rentals (March 2025)
DESCRIPTION:FREE EVENT\n\nJoin us for an evening of networking\, fun\, and friendly competition at the Business After Hours - Games Night\, hosted by Cross Creek Country Club & Cooke Rentals! This event offers a fantastic opportunity to connect with local business leaders\, entrepreneurs\, and professionals in a relaxed and enjoyable setting. Enjoy a variety of games\, from classic board games to interactive team challenges.
X-ALT-DESC;FMTTYPE=text/html:<em><strong>FREE EVENT</strong></em><br />\nJoin us for an evening of networking\, fun\, and friendly competition at the Business After Hours - Games Night\, hosted by Cross Creek Country Club &amp\; Cooke Rentals! This event offers a fantastic opportunity to connect with local business leaders\, entrepreneurs\, and professionals in a relaxed and enjoyable setting. Enjoy a variety of games\, from classic board games to interactive team challenges.&nbsp\;
LOCATION:Cross Creek Country Club 1129 Greenhill Road Mt Airy\, NC 27030
UID:e.718.1947
SEQUENCE:3
DTSTAMP:20260419T163344Z
URL:https://members.mtairyncchamber.org/events/details/business-after-hours-cross-creek-country-club-cooke-rentals-march-2025-1947
END:VEVENT

END:VCALENDAR
