BEGIN:VCALENDAR
VERSION:2.0
PRODID:-//ChamberMaster//Event Calendar 2.0//EN
METHOD:PUBLISH
X-PUBLISHED-TTL:P3D
REFRESH-INTERVAL:P3D
CALSCALE:GREGORIAN
BEGIN:VEVENT
DTSTART:20250430T170000Z
DTEND:20250430T200000Z
X-MICROSOFT-CDO-ALLDAYEVENT:FALSE
SUMMARY:BizFest (April 2025)
DESCRIPTION:ATTENTION: This registration is for Sponsorships ONLY.\n\nPlease contact Blake Moyer at blake@surryedp.com for the Booth Interest Form.\n\n\n\nSponsorship Opportunities: Boost Your Brand at BizFest\n\n\n\nMaximize your brand's visibility and impact by sponsoring BizFest! Gain recognition among entrepreneurs\, industry leaders\, and decision-makers through logo placement\, event announcements\, and more. Elevate your brand's presence in Surry County's business community. Explore sponsorship packages and secure your spot today!\n\n\n\nSponsorship Packages: \n\n \n\n\n	Title Sponsor [1 Available]\n	\n		$2\,500\n		Benefits:\n		\n			Receives Premiere Main Stage Booth\n			Social Media Post\n			Logo on Banner(s) / Poster(s) during event\n			2 MC Announcements\n		\n		\n	\n	\n\n \n\n\n	Gold Sponsor [4 Available]\n\n	\n		$1\,000\n		Benefits:\n		\n			Receives One 10' Booths\n			Social Media Post\n			Logo on Banner(s) / Poster(s) during event\n			1 MC Announcements\n		\n		\n	\n	\n\n \n\n\n	Silver Sponsor [10 Available]\n\n	\n		$500\n		Benefits:\n		\n			Receives One 10' Booth\n			Social Media Post\n			Logo on Banner(s) / Poster(s) during event
X-ALT-DESC;FMTTYPE=text/html:<strong><span style="font-size:16px\;">ATTENTION: This registration is for Sponsorships <span style="color:#FF0000\;"><u>ONLY</u></span>.<br />\nPlease contact Blake Moyer at blake@surryedp.com for the Booth Interest Form.</span><br />\n<br />\nSponsorship Opportunities: Boost Your Brand at BizFest</strong><br />\n<br />\nMaximize your brand&#39\;s visibility and impact by sponsoring BizFest! Gain recognition among entrepreneurs\, industry leaders\, and decision-makers through logo placement\, event announcements\, and more. Elevate your brand&#39\;s presence in Surry County&#39\;s business community. Explore sponsorship packages and secure your spot today!<br />\n<br />\n<strong>Sponsorship Packages:&nbsp\;</strong><br />\n&nbsp\;\n<div>\n<ul>\n	<li><u>Title Sponsor [1 Available]</u>\n	<ul>\n		<li>$2\,500</li>\n		<li>Benefits:\n		<ul>\n			<li>Receives Premiere Main Stage Booth</li>\n			<li>Social Media Post</li>\n			<li>Logo on Banner(s) / Poster(s) during event</li>\n			<li>2 MC Announcements</li>\n		</ul>\n		</li>\n	</ul>\n	</li>\n</ul>\n&nbsp\;\n\n<ul>\n	<li><u>Gold Sponsor [4 Available]</u>\n\n	<ul>\n		<li>$1\,000</li>\n		<li>Benefits:\n		<ul>\n			<li>Receives One 10&#39\; Booths</li>\n			<li>Social Media Post</li>\n			<li>Logo on Banner(s) / Poster(s) during event</li>\n			<li>1 MC Announcements</li>\n		</ul>\n		</li>\n	</ul>\n	</li>\n</ul>\n&nbsp\;\n\n<ul>\n	<li><u>Silver Sponsor [10 Available]</u>\n\n	<ul>\n		<li>$500</li>\n		<li>Benefits:\n		<ul>\n			<li>Receives One 10&#39\; Booth</li>\n			<li>Social Media Post</li>\n			<li>Logo on Banner(s) / Poster(s) during event</li>\n		</ul>\n		</li>\n	</ul>\n	</li>\n</ul>\n</div>\n
LOCATION:Mayberry Mall 388 Frederick St. Mount Airy\, NC 27030
UID:e.718.1968
SEQUENCE:3
DTSTAMP:20260423T095501Z
URL:https://members.mtairyncchamber.org/events/details/bizfest-april-2025-1968
END:VEVENT

END:VCALENDAR
