BEGIN:VCALENDAR
VERSION:2.0
PRODID:-//ChamberMaster//Event Calendar 2.0//EN
METHOD:PUBLISH
X-PUBLISHED-TTL:P3D
REFRESH-INTERVAL:P3D
CALSCALE:GREGORIAN
BEGIN:VEVENT
DTSTART:20260122T220000Z
DTEND:20260123T020000Z
X-MICROSOFT-CDO-ALLDAYEVENT:FALSE
SUMMARY:65th Annual Meeting and Awards Dinner (January 2026)
DESCRIPTION:Join us for the 65th Annual Meeting and Awards of the Greater Mount Airy Chamber of Commerce! We are leaning into the year 1960 for our 65th celebration! The event will take place at Cross Creek Country Club on Thursday\, January 22\, 2026\, from 5:00 pm to 9:00 pm.\n\n \n\nThis annual gathering serves as a momentous occasion for Chamber members to come together and reflect on the accomplishments of 2025\, unveil plans for the upcoming year\, and celebrate our community. \n\n \n\nChamber members\, your presence is highly valued\, and we encourage you to kick off the new year with us at the 65th Annual Meeting. Let's make it a memorable evening filled with a little nostalgia and celebration. Save the date   January 22  and join us for this not-to-be-missed event.
X-ALT-DESC;FMTTYPE=text/html:<div align="justify" style="color: rgb(64\, 63\, 66)\; font-family: Arial\, Verdana\, Helvetica\, sans-serif\; font-size: 12px\; text-align: justify\;">\n<div style="border: 0px\; font-variant-numeric: inherit\; font-variant-east-asian: inherit\; font-variant-alternates: inherit\; font-variant-position: inherit\; font-stretch: inherit\; font-size: 12pt\; line-height: inherit\; font-family: Aptos\, Aptos_EmbeddedFont\, Aptos_MSFontService\, Calibri\, Helvetica\, sans-serif\; font-optical-sizing: inherit\; font-kerning: inherit\; font-feature-settings: inherit\; font-variation-settings: inherit\; margin: 0px\; padding: 0px\; vertical-align: baseline\; color: black\;"><span style="border: 0px\; font-style: inherit\; font-variant: inherit\; font-stretch: inherit\; font-size: 10pt\; line-height: inherit\; font-family: Arial\, sans-serif\; font-optical-sizing: inherit\; font-kerning: inherit\; font-feature-settings: inherit\; font-variation-settings: inherit\; margin: 0px\; padding: 0px\; vertical-align: baseline\; color: inherit\;">Join us for the&nbsp\;65th Annual Meeting and Awards of the Greater Mount Airy Chamber of Commerce! We are leaning into the year 1960 for our 65th celebration! The event will take place at Cross Creek Country Club on Thursday\, January 22\, 2026\, from 5:00 pm to 9:00 pm.</span></div>\n\n<div color:="" font-feature-settings:="" font-kerning:="" font-optical-sizing:="" font-variation-settings:="" helvetica="" margin:="" padding:="" segoe="" style="border: 0px\; font-variant-numeric: inherit\; font-variant-east-asian: inherit\; font-variant-alternates: inherit\; font-variant-position: inherit\; font-stretch: inherit\; font-size: 15px\; line-height: inherit\;" ui="" vertical-align:="" web="" west="">&nbsp\;</div>\n\n<div direction:="" font-size:="" helvetica="" line-height:="" margin-bottom:="" margin-top:="" segoe="" style="color: rgb(36\, 36\, 36)\;" ui="" web="" west=""><span style="border: 0px\; font-style: inherit\; font-variant: inherit\; font-stretch: inherit\; font-size: 10pt\; line-height: inherit\; font-family: Arial\, sans-serif\; font-optical-sizing: inherit\; font-kerning: inherit\; font-feature-settings: inherit\; font-variation-settings: inherit\; margin: 0px\; padding: 0px\; vertical-align: baseline\; color: black\;">This annual gathering serves as a momentous occasion for Chamber members to come together and reflect on the accomplishments of 2025\, unveil plans for the upcoming year\, and celebrate our community.&nbsp\;</span><br />\n&nbsp\;</div>\n\n<div direction:="" font-size:="" helvetica="" line-height:="" margin-bottom:="" margin-top:="" segoe="" style="color: rgb(36\, 36\, 36)\;" ui="" web="" west=""><span style="border: 0px\; font-style: inherit\; font-variant: inherit\; font-stretch: inherit\; font-size: 10pt\; line-height: inherit\; font-family: Arial\, sans-serif\; font-optical-sizing: inherit\; font-kerning: inherit\; font-feature-settings: inherit\; font-variation-settings: inherit\; margin: 0px\; padding: 0px\; vertical-align: baseline\; color: black\;">Chamber members\, your presence is highly valued\, and we encourage you to kick off the new year with us at the 65th&nbsp\;Annual Meeting. Let&#39\;s make it a memorable evening filled with a little nostalgia and celebration. Save the date &ndash\; January 22&ndash\; and join us for this not-to-be-missed event.</span></div>\n</div>\n
LOCATION:Cross Creek Country Club 1129 Greenhill Rd. Mount Airy\, NC 27030
UID:e.718.2000
SEQUENCE:3
DTSTAMP:20260421T031456Z
URL:https://members.mtairyncchamber.org/events/details/65th-annual-meeting-and-awards-dinner-january-2026-2000
END:VEVENT

END:VCALENDAR
