BEGIN:VCALENDAR
VERSION:2.0
PRODID:-//ChamberMaster//Event Calendar 2.0//EN
METHOD:PUBLISH
X-PUBLISHED-TTL:P3D
REFRESH-INTERVAL:P3D
CALSCALE:GREGORIAN
BEGIN:VEVENT
DTSTART:20250327T120000Z
DTEND:20250327T154500Z
X-MICROSOFT-CDO-ALLDAYEVENT:FALSE
SUMMARY:2025 Community Leadership and Advocacy Conference (March 2025)
DESCRIPTION:Join local leaders\, policymakers\, and advocates for a day of learning and action. Featuring keynote speaker Chris Comeaux\, President & CEO of Teleios Collaborative Network & Teleios Consulting Network\, plus discussions on housing\, infrastructure\, education\, and more. Gain insights\, network\, and explore practical strategies for advocacy to help shape our community's future!
X-ALT-DESC;FMTTYPE=text/html:<p style="margin: 0px\; padding: 0px\; box-sizing: border-box\; font-size: var(--fs14px)\; line-height: normal\; font-variant-numeric: normal\; font-variant-east-asian: normal\; font-variant-alternates: normal\; font-variant-position: normal\; font-stretch: normal\;">Join local leaders\, policymakers\, and advocates for a day of learning and action. Featuring keynote speaker <strong data-end="304" data-start="208">Chris Comeaux\, President &amp\; CEO of Teleios Collaborative Network &amp\; Teleios Consulting Network</strong>\, plus discussions on housing\, infrastructure\, education\, and more. Gain insights\, network\, and explore practical strategies for advocacy to help shape our community&rsquo\;s future!</p>\n
LOCATION:Surry County Service Center 915 E Atkins St.\, Dobson\, NC 27017
UID:e.718.1948
SEQUENCE:3
DTSTAMP:20260419T151805Z
URL:https://members.mtairyncchamber.org/events/details/2025-community-leadership-and-advocacy-conference-march-2025-1948
END:VEVENT

END:VCALENDAR
